BEGIN:VCALENDAR
VERSION:2.0
PRODID:-//ChamberMaster//Event Calendar 2.0//EN
METHOD:PUBLISH
X-PUBLISHED-TTL:P3D
REFRESH-INTERVAL:P3D
CALSCALE:GREGORIAN
BEGIN:VEVENT
DTSTART:20231109T210000Z
DTEND:20231109T213000Z
X-MICROSOFT-CDO-ALLDAYEVENT:FALSE
SUMMARY:Ribbon Cutting: Summit Funding\, INC
DESCRIPTION:Summit Funding\, Inc. goes beyond the scope of a traditional mortgage company. The organization comprises a collective of individuals unified by the shared aspiration to constantly strive for excellence and motivate those in our vicinity to do the same. Equipped with the 'yes you can' mindset\, Summit Funding empowers its partners\, clients\, and employees to reach unprecedented levels of success within and beyond the mortgage industry.\n\nThey offer:\n\n-Mortgage loans & creative financing options\n\n-First time buyers\n\n-Down payment assistance\n\n-VA\, USDA\, FHA\, DPAs\, Construction Loans\, Renovation Loans
X-ALT-DESC;FMTTYPE=text/html:Summit Funding\, Inc. goes beyond the scope of a traditional mortgage company. The organization comprises a collective of individuals unified by the shared aspiration to constantly strive for excellence and motivate those in our vicinity to do the same. Equipped with the &#39\;yes you can&#39\; mindset\, Summit Funding empowers its partners\, clients\, and employees to reach unprecedented levels of success within and beyond the mortgage industry.<br />\nThey offer:<br />\n-Mortgage loans &amp\; creative financing options<br />\n-First time buyers<br />\n-Down payment assistance<br />\n-VA\, USDA\, FHA\, DPAs\, Construction Loans\, Renovation Loans
LOCATION:Summit Funding\, INC 611 Caroline St. Fredericksburg\, VA 22401
UID:e.492.13757
SEQUENCE:3
DTSTAMP:20260421T220357Z
URL:https://members.fredericksburgchamber.org/events/details/ribbon-cutting-summit-funding-inc-13757
END:VEVENT

END:VCALENDAR
