BEGIN:VCALENDAR
VERSION:2.0
PRODID:-//ChamberMaster//Event Calendar 2.0//EN
METHOD:PUBLISH
X-PUBLISHED-TTL:P3D
REFRESH-INTERVAL:P3D
CALSCALE:GREGORIAN
BEGIN:VEVENT
DTSTART:20231127T160000Z
DTEND:20231127T163000Z
X-MICROSOFT-CDO-ALLDAYEVENT:FALSE
SUMMARY:Ribbon Cutting: The Advance
DESCRIPTION:The FXBG Advance is led by Editor-in-Chief Martin Davis\, who began covering local government and education as the Advance in August of 2023. The non-profit newsroom began as a substack column in January 2023. Fredericksburg Parent Gives is the non-profit arm of Fredericksburg Parent and began housing the non-profit newsroom in August. The FXBG Advance publishes twice a day digitally at fxbgadvance.com and through a substack email newsletter.
X-ALT-DESC;FMTTYPE=text/html:The FXBG Advance is led by Editor-in-Chief Martin Davis\, who began covering local government and education as the Advance in August of 2023. The non-profit newsroom began as a substack column in January 2023. Fredericksburg Parent Gives is the non-profit arm of Fredericksburg Parent and began housing the non-profit newsroom in August.&nbsp\;The FXBG Advance publishes twice a day digitally at fxbgadvance.com and through a substack email newsletter.
LOCATION:FXBG Advance UMW Center for Economic Development 1125 Emancipation Highway\, Suite 400 Fredericksburg\, VA 22401
UID:e.492.13781
SEQUENCE:3
DTSTAMP:20260421T220253Z
URL:https://members.fredericksburgchamber.org/events/details/ribbon-cutting-the-advance-13781
END:VEVENT

END:VCALENDAR
