BEGIN:VCALENDAR
VERSION:2.0
PRODID:-//ChamberMaster//Event Calendar 2.0//EN
METHOD:PUBLISH
X-PUBLISHED-TTL:P3D
REFRESH-INTERVAL:P3D
CALSCALE:GREGORIAN
BEGIN:VEVENT
DTSTART:20231201T210000Z
DTEND:20231201T213000Z
X-MICROSOFT-CDO-ALLDAYEVENT:FALSE
SUMMARY:Ribbon Cutting: The Icing Baking Co
DESCRIPTION:In 1998\, the journey of The Icing Baking Company began in the basement of its founder\, Lynette Drake's home. The first storefront was established on Courthouse Road in Stafford\, and subsequently\, in 2015\, the bakery relocated to its present location. In 2018\, Camile Sue and her business partner assumed ownership of The Icing Baking Company\, steering the focus towards growth and diversifying the range of sweet offerings. Under their leadership\, the bakery provides retail items available for walk-ins at any time\, and places a special emphasis on catering for birthdays\, corporate events\, and other significant occasions.
X-ALT-DESC;FMTTYPE=text/html:In 1998\, the journey of The Icing Baking Company began in the basement of its founder\, Lynette Drake&#39\;s home. The first storefront was established on Courthouse Road in Stafford\, and subsequently\, in 2015\, the bakery relocated to its present location. In 2018\, Camile Sue and her business partner assumed ownership of The Icing Baking Company\, steering the focus towards growth and diversifying the range of sweet offerings. Under their leadership\, the bakery provides retail items available for walk-ins at any time\, and places a special emphasis on catering for birthdays\, corporate events\, and other significant occasions.
LOCATION:The Icing Baking Co 261 Garrisonville Road\, Suite #110 Stafford\, VA 22406
UID:e.492.13752
SEQUENCE:3
DTSTAMP:20260422T010042Z
URL:https://members.fredericksburgchamber.org/events/details/ribbon-cutting-the-icing-baking-co-13752
END:VEVENT

END:VCALENDAR
