BEGIN:VCALENDAR
VERSION:2.0
PRODID:-//ChamberMaster//Event Calendar 2.0//EN
METHOD:PUBLISH
X-PUBLISHED-TTL:P3D
REFRESH-INTERVAL:P3D
CALSCALE:GREGORIAN
BEGIN:VEVENT
DTSTART:20231102T200000Z
DTEND:20231102T203000Z
X-MICROSOFT-CDO-ALLDAYEVENT:FALSE
SUMMARY:Ribbon Cutting: United Water Restoration
DESCRIPTION:Recognizing a demand within the construction sector\, UWRG of Fredericksburg commenced operations with a primary focus on enhancing their own knowledge and educating the market about effective water damage drying and mitigation techniques. Their services include:\n\n- Water and fire mitigation and restoration\n\n- Mold damage mitigation
X-ALT-DESC;FMTTYPE=text/html:Recognizing a demand within the construction sector\, UWRG of Fredericksburg commenced operations with a primary focus on enhancing their own knowledge and educating the market about effective water damage drying and mitigation techniques. Their services include:<br />\n- Water and fire mitigation and restoration<br />\n- Mold damage mitigation
LOCATION:600 Interstate Business Park\, Ste. D Fredericksburg\, VA 22405
UID:e.492.13756
SEQUENCE:3
DTSTAMP:20260421T233547Z
URL:https://members.fredericksburgchamber.org/events/details/ribbon-cutting-united-water-restoration-13756
END:VEVENT

END:VCALENDAR
