BEGIN:VCALENDAR
VERSION:2.0
PRODID:-//ChamberMaster//Event Calendar 2.0//EN
METHOD:PUBLISH
X-PUBLISHED-TTL:P3D
REFRESH-INTERVAL:P3D
CALSCALE:GREGORIAN
BEGIN:VEVENT
DTSTART:20260514T200000Z
DTEND:20260514T203000Z
X-MICROSOFT-CDO-ALLDAYEVENT:FALSE
SUMMARY:Ribbon Cutting: Wealth Transfer Alliance Grand Opening
DESCRIPTION:Wealth Transfer Alliance\, Team Bailey\, was formalized in 2023 as an alliance of subject matter experts with more than 30 years of top level experience across HR\, finance\, security\, insurance\, health\, education\, public service\, leadership\, and more. The organization was created to help address some of the greatest wealth challenges facing individuals\, families\, and businesses across America\, with a focus on delivering innovative solutions in an ever evolving business landscape. Services and offerings include programs and strategies designed to reduce operational expenses and help businesses thrive\, including the Payroll Tax Initiative\, affordable medical plans\, HR and business management support\, digital ID protection\, and other business focused solutions.
X-ALT-DESC;FMTTYPE=text/html:Wealth Transfer Alliance\, Team Bailey\, was formalized in 2023 as an alliance of subject matter experts with more than 30 years of top level experience across HR\, finance\, security\, insurance\, health\, education\, public service\, leadership\, and more. The organization was created to help address some of the greatest wealth challenges facing individuals\, families\, and businesses across America\, with a focus on delivering innovative solutions in an ever evolving business landscape. Services and offerings include programs and strategies designed to reduce operational expenses and help businesses thrive\, including the Payroll Tax Initiative\, affordable medical plans\, HR and business management support\, digital ID protection\, and other business focused solutions.&nbsp\;
LOCATION:The Chamber Building 1701 Fall Hill Ave Fredericksburg\, VA 22401
UID:e.492.15370
SEQUENCE:3
DTSTAMP:20260421T143810Z
URL:https://members.fredericksburgchamber.org/events/details/ribbon-cutting-wealth-transfer-alliance-grand-opening-15370
END:VEVENT

END:VCALENDAR
