BEGIN:VCALENDAR
VERSION:2.0
PRODID:-//ChamberMaster//Event Calendar 2.0//EN
METHOD:PUBLISH
X-PUBLISHED-TTL:P3D
REFRESH-INTERVAL:P3D
CALSCALE:GREGORIAN
BEGIN:VEVENT
DTSTART:20230526T110000Z
DTEND:20230526T210000Z
X-MICROSOFT-CDO-ALLDAYEVENT:FALSE
SUMMARY:RIoT Foundations - Summer
DESCRIPTION:RIoT Foundations Program assists small business owners\, startup founders\, or prospective entrepreneurs interested in exploring their business idea more\, interested in starting a business\, and/or who are looking to grow and scale their business.\n\nThis program is open to any business industry! RIoT specializes in helping technology sector businesses and those wanting to incorporate technology into their business start\, grow\, and scale in   the 21st Century Technology Revolution is here!\n\n \n\nRegistration Deadline: May 26\, 2023\n\nIntroductory Call: May 29\, 2023   June 2\, 2023\n\nAll sessions will be held at the Virginia Smart Community Testbed located in Stafford\, VA or virtually if unable to attend in person.\n\nSession Dates\n\nJune 5\, 2023\, 5:30-7:00pm\n\nJune 12\, 2023\, 5:30-7:00pm\n\nJune 19\, 2023\, 5:30-7:00pm\n\nJune 26\, 2023\, 5:30-7:00pm\n\n1:1s   To be scheduled once accepted into the program
X-ALT-DESC;FMTTYPE=text/html:<p><strong>RIoT Foundations Program</strong>&nbsp\;assists small business owners\, startup founders\, or prospective entrepreneurs interested in exploring their business idea more\, interested in starting a business\, and/or who are looking to grow and scale their business.</p>\n\n<p>This program is open to any business industry! RIoT specializes in helping technology sector businesses and those wanting to incorporate technology into their business start\, grow\, and scale in &ndash\; the 21st Century Technology Revolution is here!<br />\n&nbsp\;</p>\n\n<p><strong>Registration Deadline</strong>: May 26\, 2023</p>\n\n<p><strong>Introductory Call</strong>: May 29\, 2023 &ndash\; June 2\, 2023</p>\n\n<p>All sessions will be held at the Virginia Smart Community Testbed located in Stafford\, VA or virtually if unable to attend in person.</p>\n\n<p><strong>Session Dates</strong><br />\nJune 5\, 2023\, 5:30-7:00pm<br />\nJune 12\, 2023\, 5:30-7:00pm<br />\nJune 19\, 2023\, 5:30-7:00pm<br />\nJune 26\, 2023\, 5:30-7:00pm</p>\n\n<p>1:1s &ndash\; To be scheduled once accepted into the program</p>\n
LOCATION:Virginia Smart Community Testbed 2143 Richmond HWY Stafford\, VA 22554 United States
UID:e.492.13518
SEQUENCE:3
DTSTAMP:20260422T084217Z
URL:https://members.fredericksburgchamber.org/events/details/riot-foundations-summer-13518
END:VEVENT

END:VCALENDAR
