BEGIN:VCALENDAR
VERSION:2.0
PRODID:-//ChamberMaster//Event Calendar 2.0//EN
METHOD:PUBLISH
X-PUBLISHED-TTL:P3D
REFRESH-INTERVAL:P3D
CALSCALE:GREGORIAN
BEGIN:VEVENT
DTSTART:20220824T213000Z
DTEND:20220825T003000Z
X-MICROSOFT-CDO-ALLDAYEVENT:FALSE
SUMMARY:RIoT Virginia Inaugural Pitch Night
DESCRIPTION:RIoT's startup pitch competition is coming to Virginia! With the launch of the first VA-based RIoT Accelerator Program in April\, graduates from the inaugural cohort are ready to take the stage.\n\nCome hear high-energy startup pitches under the stars  founders will be telling their stories and sharing about their business growth in one of the coolest summer spots in town.\n\nFood\, drinks\, networking\, and exciting new businesses to partake in  join us on August 24th for the first ever RIoT VA Startup Pitch Night.\n\nIf you'd like to be a part of the local technology and entrepreneurship scene\, you won't want to miss this!\n\nStreet and off street parking is available near and around Market Square in Downtown Fredericksburg. The event can be accessed via William St or Caroline St.
X-ALT-DESC;FMTTYPE=text/html:<p>RIoT&rsquo\;s startup pitch competition is coming to Virginia! With the launch of the first VA-based RIoT Accelerator Program in April\, graduates from the inaugural cohort are ready to take the stage.</p>\n\n<p>Come hear high-energy startup pitches under the stars&ndash\; founders will be telling their stories and sharing about their business growth in one of the coolest summer spots in town.</p>\n\n<p>Food\, drinks\, networking\, and exciting new businesses to partake in&ndash\; join us on August 24th for the first ever RIoT VA Startup Pitch Night.</p>\n\n<p>If you&rsquo\;d like to be a part of the local technology and entrepreneurship scene\, you won&rsquo\;t want to miss this!</p>\n\n<p>Street and off street parking is available near and around Market Square in Downtown Fredericksburg. The event can be accessed via William St or Caroline St.</p>\n
LOCATION:Fredericksburg Area Museum 907 Princess Anne St Fredericksburg\, VA 22401 United States
UID:e.492.13083
SEQUENCE:3
DTSTAMP:20260422T212257Z
URL:https://members.fredericksburgchamber.org/events/details/riot-virginia-inaugural-pitch-night-08-24-2022-13083
END:VEVENT

END:VCALENDAR
