BEGIN:VCALENDAR
VERSION:2.0
PRODID:-//ChamberMaster//Event Calendar 2.0//EN
METHOD:PUBLISH
X-PUBLISHED-TTL:P3D
REFRESH-INTERVAL:P3D
CALSCALE:GREGORIAN
BEGIN:VEVENT
DTSTART;VALUE=DATE:20230203
DTEND;VALUE=DATE:20230204
TRANSP:TRANSPARENT
X-MICROSOFT-CDO-ALLDAYEVENT:TRUE
SUMMARY:Riverside Center Presents Escape to Margaritaville
DESCRIPTION:Escape the cold and visit Riverside Center for the Performing Arts from January 11 through March 5 and enjoy both original songs and your most-loved Jimmy Buffett classics ("Cheeseburger in Paradise"\, "Five O'clock Somewhere"\, and "Volcano"). This new musical is the story of a part-time bartender\, part-time singer\, and full-time charmer named Tully who thinks he's got life all figured out\; until a beautiful career-minded tourist steals his heart and makes him question everything. Imagine a place where the sun is hot\, the ocean is warm\, and the drinks are as cold as they are plentiful. Welcome to Margaritaville\, the island paradise where city folk get away from it all and the locals get into the kind of trouble you can almost always sweet talk your way out of. Set your mind on island time and plan your escape from the winter blues to the regional premiere of Escape to Margaritaville.\n\nWednesday Matinees\n11:30am-1:00pm: Meal Service & Light Fare Offerings\n\n12:45pm: Show Only Arrival / 1:30pm: Performance Start\n\nThurs. - Sat. Evenings\n\n5:30pm-7:00pm: Meal Service & Light Fare Offerings\n\n6:45pm: Show Only Arrival / 7:30pm: Performance Start\n\nSunday Matinees\n\n1:00pm-2:30pm: Meal Service & Light Fare Offerings\n\n2:15pm: Show Only Arrival / 3:00pm: Performance Start
X-ALT-DESC;FMTTYPE=text/html:<font face="gill-sans-nova"><span style="font-size:17.8029px">Escape the cold and visit Riverside Center for the Performing&nbsp\;Arts from January 11 through March 5 and enjoy both original songs and your most-loved Jimmy Buffett classics (&ldquo\;Cheeseburger in Paradise&rdquo\;\, &ldquo\;Five O&rsquo\;clock&nbsp\;Somewhere&rdquo\;\, and &ldquo\;Volcano&rdquo\;). This new musical is the story of a part-time bartender\, part-time singer\, and full-time charmer named Tully who thinks he&rsquo\;s got life all figured out\; until a beautiful career-minded tourist steals his heart and makes him question everything. Imagine a place where the sun is hot\, the ocean is warm\, and the drinks are as cold as they are plentiful. Welcome to Margaritaville\, the island paradise where city folk get away from it all and the locals get into the kind of trouble you can almost always sweet talk your way out of. Set your mind on island time and plan your escape from the winter blues to the regional premiere of</span><strong style="font-size:17.8029px"> Escape to Margaritaville</strong></font><strong><span style="font-family:gill-sans-nova\; font-size:17.8029px">.</span></strong><br />\n<strong>Wednesday Matinees</strong>\n<p>11:30am-1:00pm: Meal Service &amp\; Light Fare Offerings</p>\n\n<p>12:45pm: Show Only Arrival / 1:30pm: Performance Start</p>\n\n<p><strong>Thurs. - Sat. Evenings</strong></p>\n\n<p>5:30pm-7:00pm: Meal Service &amp\; Light Fare Offerings</p>\n\n<p>6:45pm: Show Only Arrival / 7:30pm: Performance Start</p>\n\n<p><strong>Sunday Matinees</strong></p>\n\n<p>1:00pm-2:30pm: Meal Service &amp\; Light Fare Offerings</p>\n\n<p>2:15pm: Show Only Arrival / 3:00pm: Performance Start</p>\n<br />\n&nbsp\;
LOCATION:Riverside Center for the Performing Arts 95 Riverside Parkway Fredericksburg\, VA 22406 (540) 370-4300 riversidedt.com
UID:e.492.13330
SEQUENCE:3
DTSTAMP:20260422T115713Z
URL:https://members.fredericksburgchamber.org/events/details/riverside-center-presents-escape-to-margaritaville-02-03-2023-13330
END:VEVENT

END:VCALENDAR
