BEGIN:VCALENDAR
VERSION:2.0
PRODID:-//ChamberMaster//Event Calendar 2.0//EN
METHOD:PUBLISH
X-PUBLISHED-TTL:P3D
REFRESH-INTERVAL:P3D
CALSCALE:GREGORIAN
BEGIN:VEVENT
DTSTART;VALUE=DATE:20221222
DTEND;VALUE=DATE:20221223
TRANSP:TRANSPARENT
X-MICROSOFT-CDO-ALLDAYEVENT:TRUE
SUMMARY:Riverside Christmas Spectacular
DESCRIPTION:Riverside Center for the Performing Arts is welcoming families\, businesses\, and friends to  experience the excitement\, memories\, and joy of Christmas as our spectacular cast of singers and dancers present the very heart and essence of the holiday season. Escape cold\, hustle\, and stress by warming your Christmas spirit at Riverside Center with this glittering celebration of everything that makes this "the most wonderful time of the year!"\n\nThere are only a few performances left\, so reserve a table today!\nWednesday Matinees\n\n11:30am-1:00pm: Meal Service & Light Fare Offerings\n\n12:45pm: Show Only Arrival / 1:30pm: Performance Start\n\nThurs. - Sat. Evenings\n\n5:30pm-7:00pm: Meal Service & Light Fare Offerings\n\n6:45pm: Show Only Arrival / 7:30pm: Performance Start\n\nSunday Matinees\n\n1:00pm-2:30pm: Meal Service & Light Fare Offerings\n\n2:15pm: Show Only Arrival / 3:00pm: Performance Start
X-ALT-DESC;FMTTYPE=text/html:<span style="font-family:gill-sans-nova\; font-size:17.8029px">Riverside Center for the Performing Arts is welcoming families\, businesses\, and friends to&nbsp\; experience the excitement\, memories\, and joy of Christmas as our spectacular cast of singers and dancers present the very heart and essence of the holiday season. Escape cold\, hustle\, and stress by warming your Christmas spirit at Riverside Center with this glittering celebration of everything that makes this &ldquo\;the most wonderful time of the year!&rdquo\;<br />\nThere are only a few performances left\, so reserve a table today!</span>\n<p><strong>Wednesday Matinees</strong></p>\n\n<p>11:30am-1:00pm: Meal Service &amp\; Light Fare Offerings</p>\n\n<p>12:45pm: Show Only Arrival / 1:30pm: Performance Start</p>\n\n<p><strong>Thurs. - Sat. Evenings</strong></p>\n\n<p>5:30pm-7:00pm: Meal Service &amp\; Light Fare Offerings</p>\n\n<p>6:45pm: Show Only Arrival / 7:30pm: Performance Start</p>\n\n<p><strong>Sunday Matinees</strong></p>\n\n<p>1:00pm-2:30pm: Meal Service &amp\; Light Fare Offerings</p>\n\n<p>2:15pm: Show Only Arrival / 3:00pm: Performance Start</p>\n<br />\n&nbsp\;
LOCATION:Riverside Center for the Performing Arts 95 Riverside Parkway Fredericksburg\, VA 22406 (540) 370-4300 riversidedt.com
UID:e.492.13305
SEQUENCE:3
DTSTAMP:20260422T164016Z
URL:https://members.fredericksburgchamber.org/events/details/riverside-christmas-spectacular-12-22-2022-13305
END:VEVENT

END:VCALENDAR
