BEGIN:VCALENDAR
VERSION:2.0
PRODID:-//ChamberMaster//Event Calendar 2.0//EN
METHOD:PUBLISH
X-PUBLISHED-TTL:P3D
REFRESH-INTERVAL:P3D
CALSCALE:GREGORIAN
BEGIN:VEVENT
DTSTART:20220811T140000Z
DTEND:20220811T200000Z
X-MICROSOFT-CDO-ALLDAYEVENT:FALSE
SUMMARY:Rock Someone's World! Broadcasters for Blood Fredericksburg Blood Drive
DESCRIPTION:Broadcasters for Blood Fredericksburg\n\nThursday\, August 11\n\n10 a.m. to 4 p.m.\n\nFredericksburg Expo & Conference Center\n\n2371 Carl D Silver Parkway\n\nFredericksburg\, VA 22401\n\nSchedule your appointment today!\n\nRedCrossBlood.org | 1-800-RED CROSS\n\nBlood Donor App | Sponsor Code: BFE
X-ALT-DESC;FMTTYPE=text/html:<div style="text-align:center">Broadcasters for Blood Fredericksburg<br />\nThursday\, August 11<br />\n10 a.m. to 4 p.m.<br />\nFredericksburg Expo &amp\; Conference Center<br />\n2371 Carl D Silver Parkway<br />\nFredericksburg\, VA 22401<br />\nSchedule your appointment today!<br />\nRedCrossBlood.org | 1-800-RED CROSS<br />\nBlood Donor App | Sponsor Code: BFE</div>\n
LOCATION:
UID:e.492.13037
SEQUENCE:3
DTSTAMP:20260422T212508Z
URL:https://members.fredericksburgchamber.org/events/details/rock-someone-s-world-broadcasters-for-blood-fredericksburg-blood-drive-13037
END:VEVENT

END:VCALENDAR
