BEGIN:VCALENDAR
VERSION:2.0
PRODID:-//ChamberMaster//Event Calendar 2.0//EN
METHOD:PUBLISH
X-PUBLISHED-TTL:P3D
REFRESH-INTERVAL:P3D
CALSCALE:GREGORIAN
BEGIN:VEVENT
DTSTART:20240320T233000Z
DTEND:20240321T003000Z
X-MICROSOFT-CDO-ALLDAYEVENT:FALSE
SUMMARY:Sandals & Beaches Virtual VIP Night
DESCRIPTION:Join Kaitlynn Leninsky\, a travel advisor from Travelmation\, and Candice Waldeck\, business development manager for Sandals Resorts\, for a virtual VIP night! Learn all about Sandals & Beaches resorts and earn a special resort incentive* when you book your all-inclusive vacation within 14 days of the event. Register here to get the Teams invite link.\n\n\n\n*Qualify for your choice of one of the following incentives: \n\n	$250 spa credit at any Sandals or Beaches\n	$250 credit combo- $100 spa credit\, $100 private dinner credit\, and $50 photo shop credit\n	$280 Discover Scuba 3 hour program (2 people) \n	Catamaran cruise for resorts in Jamaica or Turks and Caicos
X-ALT-DESC;FMTTYPE=text/html:Join Kaitlynn Leninsky\, a travel advisor from Travelmation\, and Candice Waldeck\, business development manager for Sandals Resorts\, for a virtual VIP night! Learn all about Sandals &amp\; Beaches resorts and earn a special resort incentive* when you book your all-inclusive vacation within 14 days of the event. Register <a href="https://events.teams.microsoft.com/event/c266e4c9-3cc1-46dd-af8e-bc8fa294830c@ff29807c-bd0e-429f-9458-8595d88c5a61">here</a> to get the Teams invite link.<br />\n<br />\n*Qualify for your choice of one of the following incentives:&nbsp\;\n<ul>\n	<li>$250 spa credit at any Sandals or Beaches</li>\n	<li>$250 credit combo- $100 spa credit\, $100 private dinner credit\, and $50 photo shop credit</li>\n	<li>$280 Discover Scuba 3 hour program (2 people)&nbsp\;</li>\n	<li>Catamaran cruise for resorts in Jamaica or Turks and Caicos&nbsp\;</li>\n</ul>\n
LOCATION:Online: https://events.teams.microsoft.com/event/c266e4c9-3cc1-46dd-af8e-bc8fa294830c@ff29807c-bd0e-429f-9458-8595d88c5a61
UID:e.492.13774
SEQUENCE:3
DTSTAMP:20260422T035334Z
URL:https://members.fredericksburgchamber.org/events/details/sandals-beaches-virtual-vip-night-13774
END:VEVENT

END:VCALENDAR
