BEGIN:VCALENDAR
VERSION:2.0
PRODID:-//ChamberMaster//Event Calendar 2.0//EN
METHOD:PUBLISH
X-PUBLISHED-TTL:P3D
REFRESH-INTERVAL:P3D
CALSCALE:GREGORIAN
BEGIN:VEVENT
DTSTART:20241206T200000Z
DTEND:20241207T010000Z
X-MICROSOFT-CDO-ALLDAYEVENT:FALSE
SUMMARY:SantaCon
DESCRIPTION:***Advance purchase is NECESSARY for this event. We will not be selling tickets at the door.\n\n\nHo Ho Ho! \n\nThe holly-jolliest pub crawl in Downtown Fredericksburg!\n\nFor a $70 donation\, our supporters/Santas will join us at 6+ downtown restaurant/bar stops\, dressed in their most festive red holiday outfits for drinks\, appetizers\, 50/50 raffle\, live music\, and holiday festivities! \n\n\n\nComplimentary Santa hats gifted to all who participate\, along with a complimentary drink at each location and appetizers at select locations. Must be 21+ to participate.\n\nParticipating locations will be revealed in an email to registered Santas on December 2nd!\n\nThis year we are shaking things up! Like the Grinch's heart\, SantaCon has grown and we are excited to share the changes for 2024:\n\n\n	More locations! Thanks to the holiday cheer you bring each year\, other restaurants have taken notice and want to join in on the fun! We will now have at least 6 Downtown Fredericksburg locations participating in SantaCon.\n	An extra hour! With more locations\, we will be extending SantaCon to end at 8:00pm.\n	Freedom to travel your own Santa Route! Your first location will be assigned\, but after that\, you can walk on your own. Rather than a strict group schedule\, you now have the ability to hop to different participating SantaCon locations at your own pace.\n	50/50 Raffle! Fill your Santa bags by winning BIG $$$ in our 50/50 raffle supporting BBBS.\n	Early Ticket Pick-Up! Avoid waiting during SantaCon to sign-in. Pick-up your tickets early and take advantage of a full day visiting SantaCon locations!\n\n\nPlease wear warm\, red\, festive outfits and comfortable shoes!\n\nWe want all our Santas to return to the North Pole safe and sound this holiday season. Please plan ahead! Whether it be an Uber\, Lyft\, designated driver\, or a friendly elf with a sleigh\, it is important to us that you stay on the nice list and make it home safely! \n\nIf you have any challenges walking to each location\, please email info@bbbsfred.org so that we may accommodate you.\n\n....................................................................................................................\n\n\n\nAll proceeds go toward Big Brothers Big Sisters Greater Fredericksburg's mission to provide mentors for children in the community. Thank you for being a Defender of Potential!
X-ALT-DESC;FMTTYPE=text/html:<h2><strong><em>***Advance purchase is NECESSARY for this event. We will not be selling tickets at the door.</em></strong></h2>\n\n<div>\n<p>Ho Ho Ho!&nbsp\;</p>\n\n<p><span style="color:rgb(178\, 34\, 34)"><strong>The holly-jolliest pub crawl in Downtown Fredericksburg!</strong></span></p>\n\n<p>For a $70 donation\, our supporters/Santas will join us at 6+ downtown restaurant/bar stops\, dressed in their most festive&nbsp\;<strong><span style="color:rgb(178\, 34\, 34)">red</span></strong>&nbsp\;holiday outfits&nbsp\;for drinks\, appetizers\, 50/50 raffle\, live music\, and holiday festivities!&nbsp\;<br />\n<br />\nComplimentary Santa hats gifted to all who participate\, along with&nbsp\;a complimentary drink&nbsp\;at each location and appetizers at select locations.&nbsp\;<span style="color:rgb(178\, 34\, 34)"><strong>Must be 21+&nbsp\;to participate.</strong></span></p>\n\n<p><strong>Participating locations will be revealed in an email to registered Santas&nbsp\;on December 2nd!</strong></p>\n\n<p>This year we are shaking things up! Like the Grinch&#39\;s heart\, SantaCon has grown and we are excited to share the changes for 2024:</p>\n\n<ul>\n	<li><span style="color:rgb(178\, 34\, 34)"><strong>More locations!&nbsp\;</strong></span>Thanks to the holiday cheer you bring each year\, other restaurants have taken notice and want to join in on the fun!&nbsp\;<span style="color:rgb(178\, 34\, 34)">We will now have at least 6 Downtown Fredericksburg locations participating in SantaCon.</span></li>\n	<li><span style="color:rgb(178\, 34\, 34)"><strong>An extra hour!&nbsp\;</strong></span>With more locations\, we will be extending&nbsp\;<span style="color:rgb(178\, 34\, 34)">SantaCon to end at 8:00pm</span>.</li>\n	<li><span style="color:rgb(178\, 34\, 34)"><strong>Freedom to travel your own Santa Route!</strong>&nbsp\;</span><span style="color:rgb(178\, 34\, 34)">Your first location will be assigned\, but after that\, you can walk on your own.</span>&nbsp\;Rather than a strict group schedule\, you now have the ability to hop to different participating SantaCon locations at your own pace.</li>\n	<li><span style="color:rgb(178\, 34\, 34)"><strong>50/50 Raffle!</strong>&nbsp\;</span>Fill your Santa bags by winning BIG $$$ in our&nbsp\;<span style="color:rgb(178\, 34\, 34)">50/50 raffle supporting BBBS.</span></li>\n	<li><span style="color:rgb(178\, 34\, 34)"><strong>Early Ticket Pick-Up!&nbsp\;</strong></span>Avoid waiting during SantaCon to sign-in.&nbsp\;<span style="color:rgb(178\, 34\, 34)">Pick-up your tickets early and take advantage of a full day visiting SantaCon locations!</span></li>\n</ul>\n\n<p><span style="color:rgb(178\, 34\, 34)"><strong>Please wear warm\, red\,&nbsp\;festive&nbsp\;outfits and comfortable shoes!</strong></span></p>\n\n<p>We want all our Santas to return to the North Pole safe and sound this holiday season.<span style="color:rgb(178\, 34\, 34)"><strong>&nbsp\;Please plan ahead!&nbsp\;</strong></span>Whether it be an Uber\, Lyft\, designated driver\, or a friendly elf with a sleigh\, it is important to us that you&nbsp\;<span style="color:rgb(178\, 34\, 34)"><strong>stay on the nice list and make it home safely!&nbsp\;</strong></span></p>\n\n<p><em>If you have any challenges walking to each location\, please email&nbsp\;<a href="mailto:info@bbbsfred.org?subject=SANTACON%20Transit%20Van%20Seat%20Request" style="box-sizing: border-box\; color: rgb(0\, 252\, 135)\; text-decoration-line: none\;" target="_blank">info@bbbsfred.org</a>&nbsp\;so that we may accommodate you.</em></p>\n\n<p><em>....................................................................................................................</em><br />\n<br />\n<em>All proceeds go toward&nbsp\;<a href="http://bbbsfred.org/" style="box-sizing: border-box\; color: rgb(0\, 252\, 135)\; text-decoration-line: none\; outline: 0px\; border-bottom-color: rgb(0\, 252\, 135)\;" target="_blank"><span style="color:rgb(0\, 128\, 0)"><strong>Big Brothers Big Sisters Greater Fredericksburg&#39\;s</strong></span></a>&nbsp\;mission to provide mentors for children in the community. Thank you for being a Defender of Potential!</em></p>\n</div>\n
LOCATION:6+ participating locations in Downtown Fredericksburg. Participating locations will be revealed in an email to registered Santas on December 2nd!
UID:e.492.14317
SEQUENCE:3
DTSTAMP:20260424T160026Z
URL:https://members.fredericksburgchamber.org/events/details/santacon-12-06-2024-14317
END:VEVENT

END:VCALENDAR
