BEGIN:VCALENDAR
VERSION:2.0
PRODID:-//ChamberMaster//Event Calendar 2.0//EN
METHOD:PUBLISH
X-PUBLISHED-TTL:P3D
REFRESH-INTERVAL:P3D
CALSCALE:GREGORIAN
BEGIN:VEVENT
DTSTART:20231201T200000Z
DTEND:20231202T000000Z
X-MICROSOFT-CDO-ALLDAYEVENT:FALSE
SUMMARY:SantaCon
DESCRIPTION:It's the holly-jolliest pub crawl in Downtown Fredericksburg!\n\nFor a $50 donation\, our supporters/Santas will join us on a pub crawl to multiple downtown restaurants/bars\, dressed in their most festive red holiday outfits\, for drinks\, appetizers\, raffle prizes\, live music\, and holiday festivities! \n\nComplimentary Santa hats gifted to all who participate\, along with free munchies and a drink at each location. Must be 21+ to participate.\n\nDate: December 1st\, 2023\n\nTime: 3:00pm - 7:00pm (Sign-in begins at 2:45pm)\n\nTicket Price: $50 per Santa
X-ALT-DESC;FMTTYPE=text/html:<p><span style="color:rgb(var(--color_25))">It&#39\;s t</span><span style="color:rgb(0\, 0\, 0)">he holly-jolliest pub crawl in Downtown Fredericksburg!</span></p>\n\n<p><span style="color:rgb(var(--color_25))">For a $50 donation\, our supporters/Santas will join us on a pub crawl to multiple downtown restaurants/bars\, dressed in their most festive red holiday outfits\, for drinks\, appetizers\, raffle prizes\, live music\, and holiday festivities!&nbsp\;</span></p>\n\n<p><span style="color:rgb(var(--color_25))">Complimentary Santa hats gifted to all who participate\, along with free munchies and a drink at each location. Must be 21+ to participate.</span></p>\n\n<p><span style="color:rgb(var(--color_25))"><strong>Date:</strong>&nbsp\;December 1st\, 2023</span></p>\n\n<p><span style="color:rgb(var(--color_25))"><strong>Time:&nbsp\;</strong>3:00pm - 7:00pm (Sign-in begins at 2:45pm)</span></p>\n\n<p><span style="color:rgb(var(--color_25))"><strong>Ticket Price:&nbsp\;</strong><a href="https://secure.qgiv.com/for/bbbsgf/event/santacon2023">$50 per Santa</a></span></p>\n
LOCATION:Starting location: Water's End Brewery @ Fredericksburg Square 525 Caroline Street Fredericksburg\, VA 22401
UID:e.492.13760
SEQUENCE:3
DTSTAMP:20260421T232425Z
URL:https://members.fredericksburgchamber.org/events/details/santacon-13760
END:VEVENT

END:VCALENDAR
