BEGIN:VCALENDAR
VERSION:2.0
PRODID:-//ChamberMaster//Event Calendar 2.0//EN
METHOD:PUBLISH
X-PUBLISHED-TTL:P3D
REFRESH-INTERVAL:P3D
CALSCALE:GREGORIAN
BEGIN:VEVENT
DTSTART:20230520T210000Z
DTEND:20230521T030000Z
X-MICROSOFT-CDO-ALLDAYEVENT:FALSE
SUMMARY:Saturday Night NASCAR Racing
DESCRIPTION:Dominion Raceway is proud to be part of NASCAR's Home Track Series and specifically\, its Advance Auto Parts Series sanction. This weekly racing program developed by NASCAR has been in existence for many many years and is by all standards the premier weekly racing series in the nation.\n\nNASCAR Advance Auto Parts Series tracks function as a great entry point for young drivers hoping to develop their talent into national Touring Series divisions I.E: Camping World Truck\, The Xfinity Series or The Sprint Cup level.
X-ALT-DESC;FMTTYPE=text/html:<div>Dominion Raceway is proud to be part of NASCAR&rsquo\;s Home Track Series and specifically\, its Advance Auto Parts Series sanction. This weekly racing program developed by NASCAR has been in existence for many many years and is by all standards the premier weekly racing series in the nation.</div>\n\n<div>NASCAR Advance Auto Parts Series tracks function as a great entry point for young drivers hoping to develop their talent into national Touring Series divisions I.E: Camping World Truck\, The Xfinity Series or The Sprint Cup level.</div>\n
LOCATION:6501 Dominion Raceway Ave Thornburg\, VA 22580
UID:e.492.13486
SEQUENCE:3
DTSTAMP:20260422T084939Z
URL:https://members.fredericksburgchamber.org/events/details/saturday-night-nascar-racing-05-20-2023-13486
END:VEVENT

END:VCALENDAR
