BEGIN:VCALENDAR
VERSION:2.0
PRODID:-//ChamberMaster//Event Calendar 2.0//EN
METHOD:PUBLISH
X-PUBLISHED-TTL:P3D
REFRESH-INTERVAL:P3D
CALSCALE:GREGORIAN
BEGIN:VEVENT
DTSTART:20230618T160000Z
DTEND:20230618T200000Z
X-MICROSOFT-CDO-ALLDAYEVENT:FALSE
SUMMARY:Save the Date! Father's Day Surf and Turf!
DESCRIPTION:Give yourself and Dad the day off and let us do the cooking. Begin with a refreshing Watermelon Salad\, Cooked to Order Ribeyes and Succulent Garlic Shrimp Skewers from the Grill served with the Perfectly Baked Potato\, Market Fresh Grilled Vegetables\, Milk and Butter Bath Corn on the Cob\, and Jalapeno Cheddar Biscuits. For dessert\, enjoy Strawberry Shortcake\, NY Style Cheesecake\, and Lemon Sorbet. All fresh and made in-house. Sign up at rehanas.com under Events. We can wait to celebrate Dad with you!
X-ALT-DESC;FMTTYPE=text/html:<span style="color:rgb(0\, 6\, 36)\; font-family:madefor\,helvetica neue\,helvetica\,arial\,????\,meiryo\,?????? pro w3\,hiragino kaku gothic pro\,sans-serif\; font-size:16px">Give yourself and Dad the day off and let us do the cooking. Begin with a refreshing Watermelon Salad\, Cooked to Order Ribeyes and Succulent Garlic Shrimp Skewers from the Grill served with the Perfectly Baked Potato\, Market Fresh Grilled Vegetables\, Milk and Butter Bath Corn on the Cob\, and Jalapeno Cheddar Biscuits. For dessert\, enjoy Strawberry Shortcake\, NY Style Cheesecake\, and Lemon Sorbet. All fresh and made in-house. Sign up at rehanas.com under Events. We can wait to celebrate Dad with you!&nbsp\;</span>
LOCATION:104 Wolfe St.
UID:e.492.13600
SEQUENCE:3
DTSTAMP:20260422T054646Z
URL:https://members.fredericksburgchamber.org/events/details/save-the-date-father-s-day-surf-and-turf-06-18-2023-13600
END:VEVENT

END:VCALENDAR
