BEGIN:VCALENDAR
VERSION:2.0
PRODID:-//ChamberMaster//Event Calendar 2.0//EN
METHOD:PUBLISH
X-PUBLISHED-TTL:P3D
REFRESH-INTERVAL:P3D
CALSCALE:GREGORIAN
BEGIN:VEVENT
DTSTART:20240516T160000Z
DTEND:20240516T173000Z
X-MICROSOFT-CDO-ALLDAYEVENT:FALSE
SUMMARY:SaVida Health Fredericksburg Open House
DESCRIPTION:Please come and join us at SaVida Health of Fredericksburg's open house event! We have recently re located and would like to introduce our staff\, give tours of our new office\, offer information about what we do and who we are. We will have the Chamber of Commerce in attendance to do a ribbon cutting.  We will also have Ben and Jerry's in attendance for anyone who enjoys ice cream !
X-ALT-DESC;FMTTYPE=text/html:Please come and join us at SaVida Health of Fredericksburg&#39\;s open house event! We have recently re located and would like to introduce our staff\, give tours of our new office\, offer information about what we do and who we are. We will have the Chamber of Commerce in attendance to do a ribbon cutting.&nbsp\; We will also have Ben and Jerry&#39\;s in attendance for anyone who enjoys ice cream !&nbsp\;
LOCATION:308 West Office Park\, Fredericksburg\, VA 22401
UID:e.492.13984
SEQUENCE:3
DTSTAMP:20260422T071107Z
URL:https://members.fredericksburgchamber.org/events/details/savida-health-fredericksburg-open-house-13984
END:VEVENT

END:VCALENDAR
