BEGIN:VCALENDAR
VERSION:2.0
PRODID:-//ChamberMaster//Event Calendar 2.0//EN
METHOD:PUBLISH
X-PUBLISHED-TTL:P3D
REFRESH-INTERVAL:P3D
CALSCALE:GREGORIAN
BEGIN:VEVENT
DTSTART:20231109T150000Z
DTEND:20231109T170000Z
X-MICROSOFT-CDO-ALLDAYEVENT:FALSE
SUMMARY:SCAM PREVENTION WORKSHOP
DESCRIPTION:Are you concerned about scams and fraud targeting vulnerable members of our community? Faith Housing Coalition\, and Rehoboth United Methodist Church invites you to our Scam Prevention Workshop presented by SMP Senior Medicare Patrol. This event is designed to help seniors recognize\, prevent\, and report scams effectively. This workshop is FREE and open to all members of the community. Please register by November 5th\, 2023\, to secure your spot by contacting Pastor Chistopher Watson or Sharon Glover.
X-ALT-DESC;FMTTYPE=text/html:Are you concerned about scams and fraud targeting vulnerable members of our community? Faith Housing Coalition\, and Rehoboth United Methodist Church invites you to our Scam Prevention Workshop presented by SMP Senior Medicare Patrol. This event is designed to help seniors recognize\, prevent\, and report scams effectively. This workshop is FREE and open to all members of the community. Please register by November 5th\, 2023\, to secure your spot by contacting Pastor Chistopher Watson or Sharon Glover.
LOCATION:Rehoboth United Methodist 18580 Partlow Road Beaverdam\, VA 23015
UID:e.492.13738
SEQUENCE:3
DTSTAMP:20260421T201444Z
URL:https://members.fredericksburgchamber.org/events/details/scam-prevention-workshop-13738
END:VEVENT

END:VCALENDAR
