BEGIN:VCALENDAR
VERSION:2.0
PRODID:-//ChamberMaster//Event Calendar 2.0//EN
METHOD:PUBLISH
X-PUBLISHED-TTL:P3D
REFRESH-INTERVAL:P3D
CALSCALE:GREGORIAN
BEGIN:VEVENT
DTSTART:20260411T220000Z
DTEND:20260412T030000Z
X-MICROSOFT-CDO-ALLDAYEVENT:FALSE
SUMMARY:Second Chance Hall of Change Gala
DESCRIPTION:Second Chance Hall of Change Fundraising Gala featuring Michael "second to" Nunn\, 2025 International Boxing Hall of Fame\, and Deanna R. Hoskins\, President of Just Leadership USA.  As we gather\, we will share the powerful successes and milestones achieved in 2025\, made possible through the support of our committed partners.
X-ALT-DESC;FMTTYPE=text/html:<span style="color:rgb(34\, 34\, 34)\; font-family:arial\,helvetica\,sans-serif\; font-size:small">Second Chance Hall of Change Fundraising Gala featuring Michael &quot\;second to&quot\; Nunn\, 2025 International Boxing Hall of Fame\, and Deanna R. Hoskins\, President of Just Leadership USA.&nbsp\; As we gather\, we will share the powerful successes and milestones achieved in 2025\, made possible through&nbsp\;the support of our committed partners.</span>
LOCATION:Holiday Inn Fredericksburg Conference Center\, 20 Sanford Drive\, Fredericksburg\, VA 22406
UID:e.492.15207
SEQUENCE:3
DTSTAMP:20260421T131150Z
URL:https://members.fredericksburgchamber.org/events/details/second-chance-hall-of-change-gala-15207
END:VEVENT

END:VCALENDAR
