BEGIN:VCALENDAR
VERSION:2.0
PRODID:-//ChamberMaster//Event Calendar 2.0//EN
METHOD:PUBLISH
X-PUBLISHED-TTL:P3D
REFRESH-INTERVAL:P3D
CALSCALE:GREGORIAN
BEGIN:VEVENT
DTSTART:20220913T120000Z
DTEND:20220913T130000Z
X-MICROSOFT-CDO-ALLDAYEVENT:FALSE
SUMMARY:September's Monthly Coffee Talk
DESCRIPTION:This event takes place monthly\, with themed discussions led by local leaders\, and all are welcome. Please join us in person! September's Coffee Talk will be led by Barbara Gustavson\, Owner & Founder\, Discover Next Step\, discussing Fall Into Change: Growth And Transformation. Networking is the best thing you can do for your own professional development! Share\, learn and grow from other professionals in the Fredericksburg area.
X-ALT-DESC;FMTTYPE=text/html:This event takes place monthly\, with themed discussions led by local leaders\, and all are welcome. Please join us in person! September&#39\;s Coffee Talk will be led by Barbara Gustavson\, Owner &amp\; Founder\, Discover Next Step\, discussing Fall Into Change: Growth And Transformation. Networking is the best thing you can do for your own professional development! Share\, learn and grow from other professionals in the Fredericksburg area.
LOCATION:We're back in person! Jepson Alumni and Executive Center 1119 Hanover St\, Fredericksburg\, VA 22401 Street parking is available on Hanover Street.
UID:e.492.13090
SEQUENCE:3
DTSTAMP:20260422T193906Z
URL:https://members.fredericksburgchamber.org/events/details/september-s-monthly-coffee-talk-13090
END:VEVENT

END:VCALENDAR
