BEGIN:VCALENDAR
VERSION:2.0
PRODID:-//ChamberMaster//Event Calendar 2.0//EN
METHOD:PUBLISH
X-PUBLISHED-TTL:P3D
REFRESH-INTERVAL:P3D
CALSCALE:GREGORIAN
BEGIN:VEVENT
DTSTART:20221008T150000Z
DTEND:20221009T000000Z
X-MICROSOFT-CDO-ALLDAYEVENT:FALSE
SUMMARY:Silver Collection ART Showcase
DESCRIPTION:Join Silver Collection at Carl D. Silver Parkway as they host local artists of all genres\, styles and forms for a FREE Silver Collection ART Showcase on Saturday\, October 8th from 11:00AM - 8:00PM.\n\n\n\nThis is going to be a wonderful opportunity to not only explore the world as each artist sees it\, but also support their artwork through networking connections and potential sales.  So if you're a lover of art or simply looking for something fun to do\, we would love for you to check out the Silver Lining Colors on Saturday.\n\n\n\nSilver Collection at Carl D. Silver Parkway\n\n1201 Ashford Circle\n\nFredericksburg\, VA\n\n(Adjacent to the Fredericksburg Nationals Stadium and the Fredericksburg Expo Center)\n\n\n\nFREE ENTRANCE\n\nLight concessions will be sold with the proceeds of those sales going to support the Fredericksburg Arts Commission\n\n\n\nEmail Event Coordinator\, Ryan with any questions.
X-ALT-DESC;FMTTYPE=text/html:<p>Join <strong>Silver Collection at Carl D. Silver Parkway</strong>&nbsp\;as they host local artists of all genres\, styles and forms for a <u><strong>FREE</strong></u>&nbsp\;<strong>Silver Collection ART Showcase </strong>on Saturday\, October 8th from 11:00AM - 8:00PM.<br />\n<br />\nThis is going to be a wonderful opportunity to not only explore the world as each artist sees it\, but also support their artwork through networking connections and potential sales. &nbsp\;So if you&#39\;re a lover of art or simply looking for something fun to do\, we would love for you to check out the <strong>Silver Lining Colors </strong>on Saturday.<br />\n<br />\n<strong><a href="https://www.silvercollectionatcarldsilver.com">Silver Collection at Carl D. Silver Parkway</a></strong><br />\n1201 Ashford Circle<br />\nFredericksburg\, VA<br />\n(Adjacent to the Fredericksburg Nationals Stadium and the Fredericksburg Expo Center)<br />\n<br />\n<strong>FREE ENTRANCE</strong><br />\nLight concessions will be sold with the proceeds of those sales going to support the Fredericksburg Arts Commission<br />\n<br />\nEmail <a href="mailto:SilverCollectionEvents@pegasusresidential.com ?subject=Silver%20Collection%20ART%20Showcase&amp\;body=Hi%20Ryan!%0A%0AI%20saw%20your%20advertisement%20on%20the%20Chamber%20of%20Commerce's%20website%20and%20had%20a%20few%20questions%20regarding%20your%20Silver%20Collection%20ART%20showcase.">Event Coordinator\, Ryan</a> with any questions.</p>\n
LOCATION:Silver Collection at Carl D. Silver Parkway 1201 Ashford Circle Fredericksburg\, VA 22401 (Adjacent to the Fredericksburg Nationals Stadium and the Fredericksburg Expo Center) Email Event Coordinator\, Ryan with any questions.
UID:e.492.13108
SEQUENCE:3
DTSTAMP:20260422T175942Z
URL:https://members.fredericksburgchamber.org/events/details/silver-collection-art-showcase-13108
END:VEVENT

END:VCALENDAR
