BEGIN:VCALENDAR
VERSION:2.0
PRODID:-//ChamberMaster//Event Calendar 2.0//EN
METHOD:PUBLISH
X-PUBLISHED-TTL:P3D
REFRESH-INTERVAL:P3D
CALSCALE:GREGORIAN
BEGIN:VEVENT
DTSTART:20231028T130000Z
DTEND:20231028T160000Z
X-MICROSOFT-CDO-ALLDAYEVENT:FALSE
SUMMARY:Silver Collection Garage Sale
DESCRIPTION:Our residents sold us on the idea last year and now we'd like to include you!  \n\n\n\nJoin us for our Third-Annual Silver Collection Garage Sale on Saturday\, October 28th from 9:00AM - 12:00PM.\n\n***RAIN CONTINGENCY - Sunday\, October 29th from 9:00AM - 12:00PM***\n\n\n\n- No Vendor Fee!\n\n- No Sign-up Necessary (but greatly appreciated)!\n\n- No Commission Taken!\n\n- All Sellers & Visitors Are Welcome!
X-ALT-DESC;FMTTYPE=text/html:Our residents&nbsp\;<em><strong>sold us</strong>&nbsp\;</em>on the idea last year and now we&#39\;d like to include&nbsp\;<strong><u>you</u></strong>! &nbsp\;<br />\n<br />\nJoin us for our&nbsp\;<strong>Third-Annual Silver Collection Garage Sale&nbsp\;</strong>on&nbsp\;<strong>Saturday\, October 28th</strong>&nbsp\;from&nbsp\;<strong>9:00AM - 12:00PM</strong>.<br />\n<span style="color:rgb(0\, 0\, 205)">***RAIN CONTINGENCY - Sunday\, October 29th from 9:00AM - 12:00PM***</span><br />\n<br />\n- No Vendor Fee!<br />\n- No Sign-up Necessary (<em>but greatly appreciated</em>)!<br />\n- No Commission Taken!<br />\n-&nbsp\;<strong>All Sellers &amp\; Visitors Are Welcome</strong>!
LOCATION:Silver Collection at Carl D. Silver Parkway 1201 Ashford Circle Fredericksburg\, VA 22401 (Adjacent to the Fredericksburg Nationals Stadium & the Fredericksburg Convention Center)
UID:e.492.13706
SEQUENCE:3
DTSTAMP:20260421T231438Z
URL:https://members.fredericksburgchamber.org/events/details/silver-collection-garage-sale-10-28-2023-13706
END:VEVENT

END:VCALENDAR
