BEGIN:VCALENDAR
VERSION:2.0
PRODID:-//ChamberMaster//Event Calendar 2.0//EN
METHOD:PUBLISH
X-PUBLISHED-TTL:P3D
REFRESH-INTERVAL:P3D
CALSCALE:GREGORIAN
BEGIN:VEVENT
DTSTART:20221210T150000Z
DTEND:20221210T190000Z
X-MICROSOFT-CDO-ALLDAYEVENT:FALSE
SUMMARY:Silver Collection Winter Market
DESCRIPTION:Silver Collection Winter Holiday Market\nJoin us on Saturday\, December 10th from 10:00AM - 2:00PM for our second-annual Silver Collection Winter Holiday Market where we will be opening our doors and offering Fredericksburg residents a chance to shop\, collaborate and listen!\n\n\n\nWith representatives from 14 local small-businesses selling their unique products including:\n\n\n\n- 12 Stones Studio\n\n- Anime Tailor\n\n- Avon\n\n- The Bees Knees Organics\n\n- Briscoe Woodworking\n\n- Design Diva\n\n- Heavenly Creations\n\n- KMJ Designs\n\n- Maria's Boutique\n\n- The Millers Co.\n\n- NitaSnaps\n\n- Pampered Chef\n\n- Planty of Happiness\n\n- Turquoise Ribbon Gift Baskets\n\n\n\n*Our Silver Collection Winter Holiday Market is FREE to the public!\n\n\n\n1201 Ashford Circle\n\nFredericksburg\, VA 22401\n\n(Adjacent to the Fredericksburg Nationals Stadium & the Fredericksburg Expo Center)
X-ALT-DESC;FMTTYPE=text/html:<h1 style="text-align:center"><span style="font-family:verdana">Silver Collection Winter Holiday Market</span></h1>\nJoin us on Saturday\, December 10th from 10:00AM - 2:00PM for our second-annual Silver Collection Winter Holiday Market where we will be opening our doors and offering Fredericksburg residents a chance to shop\, collaborate and listen!<br />\n<br />\nWith representatives from 14 local small-businesses selling their unique products including:<br />\n<br />\n- <a href="https://www.etsy.com/shop/12StonesStudio">12 Stones Studio</a><br />\n- <a href="https://www.etsy.com/shop/animetailor/">Anime Tailor</a><br />\n-&nbsp\;<a href="https://www.avon.com/myavon/acovington?rep=acovington">Avon</a><br />\n-&nbsp\;<a href="https://thebeeskneesorganics.com/">The Bees Knees Organics</a><br />\n-&nbsp\;<a href="https://www.briscoewoodworks.com/">Briscoe Woodworking</a><br />\n- <a href="https://poplme.co/uuK7Fk68">Design Diva</a><br />\n- <a href="https://www.facebook.com/groups/3249849808583129">Heavenly Creations</a><br />\n- <a href="https://www.etsy.com/shop/kmjdesignsshop/">KMJ Designs</a><br />\n- <a href="https://zaubee.com/biz/marias-boutique-il0cbhwf">Maria&#39\;s Boutique</a><br />\n-&nbsp\;<a href="https://www.facebook.com/themillersco/">The Millers Co.</a><br />\n- <a href="https://www.nitasnaps.com">NitaSnaps</a><br />\n-<a href="https://www.pamperedchef.com/"> Pampered Chef</a><br />\n-&nbsp\;<a href="https://www.facebook.com/plantyofhappiness">Planty&nbsp\;of Happiness</a><br />\n-&nbsp\;<a href="http://www.turquoiseribbongiftbaskets.com/">Turquoise Ribbon Gift Baskets</a><br />\n<br />\n<strong>*Our Silver Collection Winter Holiday Market is FREE to the public!</strong><br />\n<br />\n1201 Ashford Circle<br />\nFredericksburg\, VA 22401<br />\n(Adjacent to the Fredericksburg Nationals Stadium &amp\; the&nbsp\;Fredericksburg Expo Center)
LOCATION:1201 Ashford Circle Fredericksburg\, VA 22401 (Adjacent to the Fredericksburg Nationals Stadium & the Fredericksburg Expo Center)
UID:e.492.13200
SEQUENCE:3
DTSTAMP:20260422T151818Z
URL:https://members.fredericksburgchamber.org/events/details/silver-collection-winter-market-12-10-2022-13200
END:VEVENT

END:VCALENDAR
