BEGIN:VCALENDAR
VERSION:2.0
PRODID:-//ChamberMaster//Event Calendar 2.0//EN
METHOD:PUBLISH
X-PUBLISHED-TTL:P3D
REFRESH-INTERVAL:P3D
CALSCALE:GREGORIAN
BEGIN:VEVENT
DTSTART:20240514T153000Z
DTEND:20240514T170000Z
X-MICROSOFT-CDO-ALLDAYEVENT:FALSE
SUMMARY:Small Business Bookkeeping Luncheon
DESCRIPTION:Solid Rock Accounting is offering Small Business Bookkeeping Luncheon.  We will discuss budgets\, expense tracking\, deductions and job costing.  Bring your questions and reserve your seat today.  Complimentary lunch provided.
X-ALT-DESC;FMTTYPE=text/html:Solid Rock Accounting is offering Small Business Bookkeeping Luncheon.&nbsp\; We will discuss budgets\, expense tracking\, deductions and job costing.&nbsp\; Bring your questions and reserve your seat today.&nbsp\; Complimentary lunch provided.
LOCATION:Fredericksburg Chamber of Commerce Conference Room 1701 Fall Hill Ave\, Suite 106\, Fredericksburg\, VA 22401
UID:e.492.13971
SEQUENCE:3
DTSTAMP:20260422T084645Z
URL:https://members.fredericksburgchamber.org/events/details/small-business-bookkeeping-luncheon-13971
END:VEVENT

END:VCALENDAR
