BEGIN:VCALENDAR
VERSION:2.0
PRODID:-//ChamberMaster//Event Calendar 2.0//EN
METHOD:PUBLISH
X-PUBLISHED-TTL:P3D
REFRESH-INTERVAL:P3D
CALSCALE:GREGORIAN
BEGIN:VEVENT
DTSTART:20230401T110000Z
DTEND:20230401T160000Z
X-MICROSOFT-CDO-ALLDAYEVENT:FALSE
SUMMARY:Spartan Spring Sale
DESCRIPTION:Come join Spartan Emergency Water Removal for thrifting\, music\, and light refreshments.
X-ALT-DESC;FMTTYPE=text/html:Come join Spartan Emergency Water Removal for thrifting\, music\, and light refreshments.&nbsp\;
LOCATION:400 Nelms Circle Fredericksburg\, VA 22406
UID:e.492.13440
SEQUENCE:3
DTSTAMP:20260422T102543Z
URL:https://members.fredericksburgchamber.org/events/details/spartan-spring-sale-13440
END:VEVENT

END:VCALENDAR
