BEGIN:VCALENDAR
VERSION:2.0
PRODID:-//ChamberMaster//Event Calendar 2.0//EN
METHOD:PUBLISH
X-PUBLISHED-TTL:P3D
REFRESH-INTERVAL:P3D
CALSCALE:GREGORIAN
BEGIN:VEVENT
DTSTART:20221218T200000Z
DTEND:20221218T213500Z
X-MICROSOFT-CDO-ALLDAYEVENT:FALSE
SUMMARY:Spotsylvanians Chorus Christmas Concert
DESCRIPTION:The Spotsylvanians Chorus presents Christmas Classics. Enjoy your favorite sounds of the season and join us for a sing along.
X-ALT-DESC;FMTTYPE=text/html:The Spotsylvanians Chorus presents Christmas Classics. Enjoy your favorite sounds of the season and join us for a sing along.
LOCATION:Freedom Middle School 7315 Smith Station Road Fredericksburg\, VA 22407
UID:e.492.13288
SEQUENCE:3
DTSTAMP:20260422T152111Z
URL:https://members.fredericksburgchamber.org/events/details/spotsylvanians-chorus-christmas-concert-12-18-2022-13288
END:VEVENT

END:VCALENDAR
