BEGIN:VCALENDAR
VERSION:2.0
PRODID:-//ChamberMaster//Event Calendar 2.0//EN
METHOD:PUBLISH
X-PUBLISHED-TTL:P3D
REFRESH-INTERVAL:P3D
CALSCALE:GREGORIAN
BEGIN:VEVENT
DTSTART:20221218T000000Z
DTEND:20221218T013000Z
X-MICROSOFT-CDO-ALLDAYEVENT:FALSE
SUMMARY:Spotsylvanians Chorus Christmas Concert
DESCRIPTION:The Spotsylvanians Chorus presents Christmas Classics. Enjoy your favorite sounds of the season and join us for a sing along
X-ALT-DESC;FMTTYPE=text/html:The Spotsylvanians Chorus presents Christmas Classics. Enjoy your favorite sounds of the season and join us for a sing along
LOCATION:Freedom Middle School 7315 Freedom Middle School
UID:e.492.13287
SEQUENCE:3
DTSTAMP:20260422T151851Z
URL:https://members.fredericksburgchamber.org/events/details/spotsylvanians-chorus-christmas-concert-13287
END:VEVENT

END:VCALENDAR
