BEGIN:VCALENDAR
VERSION:2.0
PRODID:-//ChamberMaster//Event Calendar 2.0//EN
METHOD:PUBLISH
X-PUBLISHED-TTL:P3D
REFRESH-INTERVAL:P3D
CALSCALE:GREGORIAN
BEGIN:VEVENT
DTSTART:20240317T170000Z
DTEND:20240317T210000Z
X-MICROSOFT-CDO-ALLDAYEVENT:FALSE
SUMMARY:St.Patrick's Day Party
DESCRIPTION:Come join in on the fun at Rehana's for our First St. Patrick's Day Party on our BRAND NEW PATIO! We will have Music\, Food\, and Fun! On the Patio\, we will be serving Corned Beef and Cabbage (a must!)\, Irish Coddle and Soda Bread\, Colcannon\, Flag Salad\, Smoked Salmon\, Irish Whiskey Cake\, Guinness Brownies and Beers. You ticket will include these foods and 3 Beers!
X-ALT-DESC;FMTTYPE=text/html:Come join in on the fun at Rehana&#39\;s for our First St. Patrick&#39\;s Day Party on our BRAND NEW PATIO! We will have Music\, Food\, and Fun! On the Patio\, we will be serving Corned Beef and Cabbage (a must!)\, Irish Coddle and Soda Bread\, Colcannon\, Flag Salad\, Smoked Salmon\, Irish Whiskey Cake\, Guinness Brownies and Beers. You ticket will include these foods and 3 Beers!
LOCATION:Rehana's A Gathering Place 104 Wolfe St. Fredericksburg\, VA 22401
UID:e.492.13889
SEQUENCE:3
DTSTAMP:20260422T035237Z
URL:https://members.fredericksburgchamber.org/events/details/st-patrick-s-day-party-13889
END:VEVENT

END:VCALENDAR
