BEGIN:VCALENDAR
VERSION:2.0
PRODID:-//ChamberMaster//Event Calendar 2.0//EN
METHOD:PUBLISH
X-PUBLISHED-TTL:P3D
REFRESH-INTERVAL:P3D
CALSCALE:GREGORIAN
BEGIN:VEVENT
DTSTART:20230517T210000Z
DTEND:20230517T230000Z
X-MICROSOFT-CDO-ALLDAYEVENT:FALSE
SUMMARY:Stafford Business Appreciation Reception - Honoring Stafford Businesses through the decades!
DESCRIPTION:Stafford County is proud of the robust\, loyal\, and philanthropic professionals and leaders who choose to do business in Stafford. This annual event celebrates the businesses of Stafford. The Business Appreciation Reception theme celebrates 50 years of the Stafford County Economic Development Authority's inception\, honoring our businesses throughout the decades! Awards will be presented to businesses who are nominated and selected for one of the following: Business of the Year Award\, Innovation Award and the Donald H. Newlin Community Stewardship Award. Award Nominations open March 1\, 2023 and close April 7\, 2023 at noon.
X-ALT-DESC;FMTTYPE=text/html:Stafford County is proud of the robust\, loyal\, and philanthropic professionals and leaders who choose to do business in Stafford. This annual event celebrates the businesses of Stafford. The Business Appreciation Reception theme celebrates 50 years of the Stafford County Economic Development Authority&rsquo\;s inception\, honoring our businesses throughout the decades! Awards will be presented to businesses who are nominated and selected for one of the following: Business of the Year Award\, Innovation Award and the Donald H. Newlin Community Stewardship Award. Award Nominations open March 1\, 2023 and close April 7\, 2023 at noon.
LOCATION:Cyber Bytes Foundation 1010 Corporate Drive #103 Stafford\, VA 22554
UID:e.492.13450
SEQUENCE:3
DTSTAMP:20260422T071506Z
URL:https://members.fredericksburgchamber.org/events/details/stafford-business-appreciation-reception-honoring-stafford-businesses-through-the-decades-13450
END:VEVENT

END:VCALENDAR
