BEGIN:VCALENDAR
VERSION:2.0
PRODID:-//ChamberMaster//Event Calendar 2.0//EN
METHOD:PUBLISH
X-PUBLISHED-TTL:P3D
REFRESH-INTERVAL:P3D
CALSCALE:GREGORIAN
BEGIN:VEVENT
DTSTART:20241217T223000Z
DTEND:20241217T233000Z
X-MICROSOFT-CDO-ALLDAYEVENT:FALSE
SUMMARY:Stafford County Campus Tour
DESCRIPTION:Explore Germanna's New Stafford County Center   Register for a Campus Tour!\n\nGermanna's brand-new Stafford County Center located off Garrisonville Road (Route 610) is now open! Meet us at our new location to tour the state-of-the-art facilities\, explore the various programs and student services offered\, and learn how to get started at the Center in Spring 2025.\n\nTake the first step toward your successful future   register for a tour at the Stafford County Center today.
X-ALT-DESC;FMTTYPE=text/html:<p><span style="font-size:16px"><strong>Explore Germanna&#39\;s New Stafford County Center &ndash\; Register for a Campus Tour!</strong></span></p>\n\n<p>Germanna&#39\;s brand-new Stafford County Center located off Garrisonville Road (Route 610) is now open! Meet us at our new location to tour the state-of-the-art facilities\, explore the various programs and student services offered\, and learn how to get started at the Center in Spring 2025.</p>\n\n<p><strong>Take the first step toward your successful future &ndash\; register for a tour at the Stafford County Center today.</strong></p>\n
LOCATION:Stafford County Center\, 25 Center Street\, Stafford\, Virginia 22556\, United States
UID:e.492.14345
SEQUENCE:3
DTSTAMP:20260424T143428Z
URL:https://members.fredericksburgchamber.org/events/details/stafford-county-campus-tour-14345
END:VEVENT

END:VCALENDAR
