BEGIN:VCALENDAR
VERSION:2.0
PRODID:-//ChamberMaster//Event Calendar 2.0//EN
METHOD:PUBLISH
X-PUBLISHED-TTL:P3D
REFRESH-INTERVAL:P3D
CALSCALE:GREGORIAN
BEGIN:VEVENT
DTSTART:20240424T210000Z
DTEND:20240424T230000Z
X-MICROSOFT-CDO-ALLDAYEVENT:FALSE
SUMMARY:Stafford EDA's Business Appreciation Reception
DESCRIPTION:Stafford County takes pride in its vibrant community of dedicated\, loyal\, and philanthropic professionals and leaders who have chosen to make Stafford their business home. This annual event is a celebration of Stafford's businesses\, honoring the past\, acknowledging the present\, and anticipating the promising future ahead! Awards will be presented to businesses who are nominated and selected for one of the following: Business of the Year Award\, Innovation Award and the Donald H. Newlin Community Stewardship Award. If you have any questions\, or for more information\, please contact Linzy Browne at LBrowne@staffordcountyva.gov
X-ALT-DESC;FMTTYPE=text/html:Stafford County takes pride in its vibrant community of dedicated\, loyal\, and philanthropic professionals and leaders who have chosen to make Stafford their business home. This annual event is a celebration of Stafford&rsquo\;s businesses\, honoring the past\, acknowledging the present\, and anticipating the promising future ahead! Awards will be presented to businesses who are nominated and selected for one of the following: Business of the Year Award\, Innovation Award and the Donald H. Newlin Community Stewardship Award. If you have any questions\, or for more information\, please contact Linzy Browne at LBrowne@staffordcountyva.gov
LOCATION:Riverside Center for the Performing Arts
UID:e.492.13957
SEQUENCE:3
DTSTAMP:20260422T070643Z
URL:https://members.fredericksburgchamber.org/events/details/stafford-eda-s-business-appreciation-reception-13957
END:VEVENT

END:VCALENDAR
