BEGIN:VCALENDAR
VERSION:2.0
PRODID:-//ChamberMaster//Event Calendar 2.0//EN
METHOD:PUBLISH
X-PUBLISHED-TTL:P3D
REFRESH-INTERVAL:P3D
CALSCALE:GREGORIAN
BEGIN:VEVENT
DTSTART:20250419T120000Z
DTEND:20250419T170000Z
X-MICROSOFT-CDO-ALLDAYEVENT:FALSE
SUMMARY:Stafford Education Foundation Hippity Hop Run and Egg Hunt
DESCRIPTION:Stafford Education Foundation's sole mission is to support the students and educators in Stafford Schools. Your participation in the Hippity Hop will help provide continuous support for our teachers and students\, helping fund essential programs and meet urgent needs throughout the year. By running you help us say "yes" when our schools need it most. Join us for this fun filled community event! \n\nCheck out what we do at www.thestaffordeducationfoundation.com\n\nAll participants in the 5K\, 1 Mile\, and Tot Trot will receive a race t-shirt\, but you must register by the t-shirt deadline on April 1st in order to guarantee your shirt. All participants in the 1 Mile and Tot Trot will receive a finishers medal!
X-ALT-DESC;FMTTYPE=text/html:<p>Stafford Education Foundation&#39\;s sole mission is to support the students and educators in Stafford Schools. Your participation in the Hippity Hop will help provide continuous support for our teachers and students\, helping fund essential programs and meet urgent needs throughout the year. By running you help us say &quot\;yes&quot\; when our schools need it most. Join us for this fun filled community event!&nbsp\;</p>\n\n<p>Check out what we do at&nbsp\;<a href="https://www.thestaffordeducationfoundation.com/" rel="nofollow noopener noreferrer" style="box-sizing: inherit\; background-color: rgba(0\, 0\, 0\, 0)\; color: rgb(232\, 27\, 23)\;" target="_blank">www.thestaffordeducationfoundation.com</a></p>\n\n<p>All participants in the 5K\, 1 Mile\, and Tot Trot will receive a race t-shirt\, but you must register by the t-shirt deadline on April 1st in order to guarantee your shirt. All participants in the 1 Mile and Tot Trot will receive a finishers medal!</p>\n
LOCATION:John Lee Pratt Memorial Park 120 River Road
UID:e.492.14410
SEQUENCE:3
DTSTAMP:20260423T004429Z
URL:https://members.fredericksburgchamber.org/events/details/stafford-education-foundation-hippity-hop-run-and-egg-hunt-14410
END:VEVENT

END:VCALENDAR
