BEGIN:VCALENDAR
VERSION:2.0
PRODID:-//ChamberMaster//Event Calendar 2.0//EN
METHOD:PUBLISH
X-PUBLISHED-TTL:P3D
REFRESH-INTERVAL:P3D
CALSCALE:GREGORIAN
BEGIN:VEVENT
DTSTART:20230208T230000Z
DTEND:20230209T020000Z
X-MICROSOFT-CDO-ALLDAYEVENT:FALSE
SUMMARY:Stafford Social For Success
DESCRIPTION:Stafford Social For Success\n\nThis is a free event\, but please RSVP on Eventbrite for your complimentary beverage ticket.\n\nAlways Making it Happen would like to invite you to attend Stafford Social For Success a fun evening of networking. To be held on the second Wednesday of every month\, between 6 PM - 8 PM.\n\nThis is an after-hours business networking mix-and-mingle event\; open to all who want to socialize and get to know other local business professionals in our area.\n\nSo come out and grow your business network by connecting with other professionals during a fun evening in a great local environment.
X-ALT-DESC;FMTTYPE=text/html:<div>Stafford Social For Success</div>\n\n<div>This is a free event\, but please RSVP on Eventbrite for your complimentary beverage ticket.</div>\n\n<div>Always Making it Happen would like to invite you to attend Stafford Social For Success a fun evening of networking. To be held on the second Wednesday of every month\, between 6 PM - 8 PM.</div>\n\n<div>This is an after-hours business networking mix-and-mingle event\; open to all who want to socialize and get to know other local business professionals in our area.</div>\n\n<div>So come out and grow your business network by connecting with other professionals during a fun evening in a great local environment.</div>\n
LOCATION:Barley Naked Brewing
UID:e.492.13186
SEQUENCE:3
DTSTAMP:20260422T115448Z
URL:https://members.fredericksburgchamber.org/events/details/stafford-social-for-success-02-08-2023-13186
END:VEVENT

END:VCALENDAR
