BEGIN:VCALENDAR
VERSION:2.0
PRODID:-//ChamberMaster//Event Calendar 2.0//EN
METHOD:PUBLISH
X-PUBLISHED-TTL:P3D
REFRESH-INTERVAL:P3D
CALSCALE:GREGORIAN
BEGIN:VEVENT
DTSTART:20260127T133000Z
DTEND:20260127T210000Z
X-MICROSOFT-CDO-ALLDAYEVENT:FALSE
SUMMARY:Stafford Tourism and Business Marketing Summit
DESCRIPTION:Join us for the 2026 Stafford Tourism & Business Marketing Summit\, an inspiring day designed to elevate your marketing skills and strengthen your business. Dive into sessions led by industry professionals covering social media\, branding\, creative content\, AI tools\, and data-driven strategy. You'll connect with experts\, explore practical solutions\, and leave with actionable insights you can use right away. Don't miss this opportunity to grow\, learn\, and innovate alongside your peers.
X-ALT-DESC;FMTTYPE=text/html:Join us for the 2026 Stafford Tourism &amp\; Business Marketing Summit\, an inspiring day designed to elevate your marketing skills and strengthen your business. Dive into sessions led by industry professionals covering social media\, branding\, creative content\, AI tools\, and data-driven strategy. You&rsquo\;ll connect with experts\, explore practical solutions\, and leave with actionable insights you can use right away. Don&rsquo\;t miss this opportunity to grow\, learn\, and innovate alongside your peers.
LOCATION:Holiday Inn and Conference Center 20 Sanford Dr\, Fredericksburg\, VA 22406
UID:e.492.15120
SEQUENCE:3
DTSTAMP:20260421T145338Z
URL:https://members.fredericksburgchamber.org/events/details/stafford-tourism-and-business-marketing-summit-15120
END:VEVENT

END:VCALENDAR
