BEGIN:VCALENDAR
VERSION:2.0
PRODID:-//ChamberMaster//Event Calendar 2.0//EN
METHOD:PUBLISH
X-PUBLISHED-TTL:P3D
REFRESH-INTERVAL:P3D
CALSCALE:GREGORIAN
BEGIN:VEVENT
DTSTART:20221208T150000Z
DTEND:20221208T210000Z
X-MICROSOFT-CDO-ALLDAYEVENT:FALSE
SUMMARY:Stafford\, VA Job Fair
DESCRIPTION:Career Fair hosted @ Quantico Cyber Hub In-Person & Virtual - Thursday\, December 8 Quantico Corporate Center\, 1010 Corporate Drive\, Stafford\, VA 22554 (located in the heart of America's governing body\, next to the Quantico Marine Base in Virginia) All job seekers are invited! Transitioning Military & Spouses are encouraged to attend! FOCUS: TECHNOLOGY FOR WARFIGHTERS   CYBER SECURITY / TECHNOLOGY / INFORMATION TECHNOLOGY / LAW ENFORCEMENT   PLUS. IN-PERSON 10 AM   3 PM ET Happy Hour ... Networking 3 PM   4 PM Companies will have access to the resume database. Register online and post resume. Plan your schedule in advance to participate in both setups to connect with ALL companies. REGISTER ONLINE & POST RESUME. - Bring copies of your resume. - Dress professionally\, business casual or military uniform. - Information on classes A+\, Security+\, Network+ and other IT training will be available. - Take advantage of FREE R sum  reviews. VIRTUAL 11 AM   3 PM ET Job Seeker URL Registration Link https://pvapi.premiervirtual.com/s/dqYL0d CONNECT WITH COMPANIES ONLINE. - Training video (accessible from Job Seeker dashboard). - All you will need is a phone\, laptop or computer and good internet connection! - 1-on-1 chats. Talk directly with recruiters. Video chats (optional). - Take advantage of FREE R sum  reviews.online. Presenter - The R sum  Xpert   Phyllis Houston Highlights of participating companies include - 2 Circle\, Inc.\, Axient Corporation\, Accelerated Training in Defense Manufacturing\, Department of Labor\, FedEx Freight\, Harford County Sheriff's Office\, Intelligence Careers\, JobZone\, Micron Technology VIRTUAL\, New Horizons CLC\, SimVentions\, Inc.\, The Re$ume Xpert - FREE RESUME REVIEWS - VIRTUAL\, U.S. Customs & Border Protection\, Virginia Army National Guard\, PLUS. COMPANY HIRING MANAGERS/RECRUITERS: Contact JobZone to reserve your booth In-Person or Virtual. All industries are invited! Open to all industries focusing primarily on recruitment needs for Cyber Security\, IT\, Technology\, Law Enforcement\, Security\, PLUS. ALL UPDATES & NEW ANNOUNCEMENTS WILL BE POSTED ONLINE. For more information: Janet.Giles@JobZoneOnline.com / 434-263-5102 / 540-226-1473 / www.JobZoneOnline.com
X-ALT-DESC;FMTTYPE=text/html:Career Fair hosted @ Quantico Cyber Hub In-Person &amp\; Virtual - Thursday\, December 8 Quantico Corporate Center\, 1010 Corporate Drive\, Stafford\, VA 22554 (located in the heart of America&rsquo\;s governing body\, next to the Quantico Marine Base in Virginia) All job seekers are invited! Transitioning Military &amp\; Spouses are encouraged to attend! FOCUS: TECHNOLOGY FOR WARFIGHTERS &hellip\; CYBER SECURITY / TECHNOLOGY / INFORMATION TECHNOLOGY / LAW ENFORCEMENT &hellip\; PLUS. IN-PERSON 10 AM &ndash\; 3 PM ET Happy Hour ... Networking 3 PM &ndash\; 4 PM Companies will have access to the resume database. Register online and post resume. Plan your schedule in advance to participate in both setups to connect with ALL companies. REGISTER ONLINE &amp\; POST RESUME. - Bring copies of your resume. - Dress professionally\, business casual or military uniform. - Information on classes A+\, Security+\, Network+ and other IT training will be available. - Take advantage of FREE R&eacute\;sum&eacute\; reviews. VIRTUAL 11 AM &ndash\; 3 PM ET Job Seeker URL Registration Link https://pvapi.premiervirtual.com/s/dqYL0d CONNECT WITH COMPANIES ONLINE. - Training video (accessible from Job Seeker dashboard). - All you will need is a phone\, laptop or computer and good internet connection! - 1-on-1 chats. Talk directly with recruiters. Video chats (optional). - Take advantage of FREE R&eacute\;sum&eacute\; reviews.online. Presenter - The R&eacute\;sum&eacute\; Xpert &ndash\; Phyllis Houston Highlights of participating companies include - 2 Circle\, Inc.\, Axient Corporation\, Accelerated Training in Defense Manufacturing\, Department of Labor\, FedEx Freight\, Harford County Sheriff&rsquo\;s Office\, Intelligence Careers\, JobZone\, Micron Technology VIRTUAL\, New Horizons CLC\, SimVentions\, Inc.\, The Re$ume Xpert - FREE RESUME REVIEWS - VIRTUAL\, U.S. Customs &amp\; Border Protection\, Virginia Army National Guard\, PLUS. COMPANY HIRING MANAGERS/RECRUITERS: Contact JobZone to reserve your booth In-Person or Virtual. All industries are invited! Open to all industries focusing primarily on recruitment needs for Cyber Security\, IT\, Technology\, Law Enforcement\, Security\, PLUS. ALL UPDATES &amp\; NEW ANNOUNCEMENTS WILL BE POSTED ONLINE. For more information: Janet.Giles@JobZoneOnline.com / 434-263-5102 / 540-226-1473 / www.JobZoneOnline.com
LOCATION:Quantico Corporate Center\, 1010 Corporate Drive\, Stafford\, VA 22554 (minutes from Quantico)
UID:e.492.13232
SEQUENCE:3
DTSTAMP:20260422T151532Z
URL:https://members.fredericksburgchamber.org/events/details/stafford-va-job-fair-13232
END:VEVENT

END:VCALENDAR
