BEGIN:VCALENDAR
VERSION:2.0
PRODID:-//ChamberMaster//Event Calendar 2.0//EN
METHOD:PUBLISH
X-PUBLISHED-TTL:P3D
REFRESH-INTERVAL:P3D
CALSCALE:GREGORIAN
BEGIN:VEVENT
DTSTART:20260609T150000Z
DTEND:20260609T180000Z
X-MICROSOFT-CDO-ALLDAYEVENT:FALSE
SUMMARY:State of Ready Region North Central Conference
DESCRIPTION:Join Foundation First and Ready Region North Central for a regional briefing on the current landscape of early childhood education across our communities. This event will highlight key data\, trends in access and quality\, systems-building progress\, and emerging priorities that impact children from birth to five\, families\, providers\, and the regional workforce. Together\, we will explore where we are today\, what the data is telling us\, and how cross-sector partners can align efforts to strengthen opportunity across North Central Virginia. Why attend? Economic development leaders & businesses Understand how childcare access directly impacts workforce recruitment\, retention\, and regional competitiveness and explore partnership strategies that support working families and employers. ?? School systems & education leaders Gain insight into kindergarten readiness trends\, birth-to-five system alignment\, and opportunities to strengthen early learning pipelines that support long-term student success. ?? Community partners & service organizations Learn how regional data and shared priorities can guide coordinated supports for families and increase the impact of existing programs and investments. ?? Providers & early childhood stakeholders Explore access\, capacity\, and quality trends shaping the field and help inform strategies that strengthen the early childhood ecosystem across the region. ?? Be part of the conversation shaping the future of early childhood and the future workforce across North Central Virginia. ?? Hylton Performing Arts Center Tuesday\, June 9th 11am-2pm
X-ALT-DESC;FMTTYPE=text/html:Join Foundation First and Ready Region North Central for a regional briefing on the current landscape of early childhood education across our communities. This event will highlight key data\, trends in access and quality\, systems-building progress\, and emerging priorities that impact children from birth to five\, families\, providers\, and the regional workforce. Together\, we will explore where we are today\, what the data is telling us\, and how cross-sector partners can align efforts to strengthen opportunity across North Central Virginia. Why attend? Economic development leaders &amp\; businesses Understand how childcare access directly impacts workforce recruitment\, retention\, and regional competitiveness&mdash\;and explore partnership strategies that support working families and employers. ?? School systems &amp\; education leaders Gain insight into kindergarten readiness trends\, birth-to-five system alignment\, and opportunities to strengthen early learning pipelines that support long-term student success. ?? Community partners &amp\; service organizations Learn how regional data and shared priorities can guide coordinated supports for families and increase the impact of existing programs and investments. ?? Providers &amp\; early childhood stakeholders Explore access\, capacity\, and quality trends shaping the field&mdash\;and help inform strategies that strengthen the early childhood ecosystem across the region. ?? Be part of the conversation shaping the future of early childhood&mdash\;and the future workforce&mdash\;across North Central Virginia. ?? Hylton Performing Arts Center Tuesday\, June 9th 11am-2pm
LOCATION:Hylton Performing Arts Center 10960 George Mason Cir\, Manassas\, VA
UID:e.492.15367
SEQUENCE:3
DTSTAMP:20260421T161028Z
URL:https://members.fredericksburgchamber.org/events/details/state-of-ready-region-north-central-conference-15367
END:VEVENT

END:VCALENDAR
