BEGIN:VCALENDAR
VERSION:2.0
PRODID:-//ChamberMaster//Event Calendar 2.0//EN
METHOD:PUBLISH
X-PUBLISHED-TTL:P3D
REFRESH-INTERVAL:P3D
CALSCALE:GREGORIAN
BEGIN:VEVENT
DTSTART;VALUE=DATE:20250721
DTEND;VALUE=DATE:20250726
TRANSP:TRANSPARENT
X-MICROSOFT-CDO-ALLDAYEVENT:TRUE
SUMMARY:STEM Wizards – Magical Builds & Mystery Missions Camp July 21 - 25
DESCRIPTION:Fantasy + STEM\n\n \n\nSTEM meets storytelling! Kids take on a magical quest to build moving dragons\, enchanted castles\, and spell-casting robots using LEGO SPIKE and BricQ. Each day unlocks a new chapter of their adventure with fun engineering challenges.
X-ALT-DESC;FMTTYPE=text/html:<div>Fantasy + STEM</div>\n\n<div>&nbsp\;</div>\n\n<div>STEM meets storytelling! Kids take on a magical&nbsp\;quest to build moving dragons\, enchanted castles\,&nbsp\;and spell-casting robots using LEGO SPIKE and&nbsp\;BricQ. Each day unlocks a new chapter of their&nbsp\;adventure with fun engineering challenges.</div>\n
LOCATION:1010 Corporate Drive\, Suite 103 Stafford\, VA 22554
UID:e.492.14933
SEQUENCE:3
DTSTAMP:20260422T005227Z
URL:https://members.fredericksburgchamber.org/events/details/stem-wizards-magical-builds-mystery-missions-camp-july-21-25-14933
END:VEVENT

END:VCALENDAR
