BEGIN:VCALENDAR
VERSION:2.0
PRODID:-//ChamberMaster//Event Calendar 2.0//EN
METHOD:PUBLISH
X-PUBLISHED-TTL:P3D
REFRESH-INTERVAL:P3D
CALSCALE:GREGORIAN
BEGIN:VEVENT
DTSTART:20220917T163000Z
DTEND:20220917T203000Z
X-MICROSOFT-CDO-ALLDAYEVENT:FALSE
SUMMARY:Stepping into the future - Together: Trauma to Truimph
DESCRIPTION:
X-ALT-DESC;FMTTYPE=text/html:
LOCATION:Central Rappahannock Regional Library 1201 Caroline Street Fredericksburg\, VA 22401
UID:e.492.13085
SEQUENCE:3
DTSTAMP:20260422T194128Z
URL:https://members.fredericksburgchamber.org/events/details/stepping-into-the-future-together-trauma-to-truimph-13085
END:VEVENT

END:VCALENDAR
