BEGIN:VCALENDAR
VERSION:2.0
PRODID:-//ChamberMaster//Event Calendar 2.0//EN
METHOD:PUBLISH
X-PUBLISHED-TTL:P3D
REFRESH-INTERVAL:P3D
CALSCALE:GREGORIAN
BEGIN:VEVENT
DTSTART:20240303T180000Z
DTEND:20240303T210000Z
X-MICROSOFT-CDO-ALLDAYEVENT:FALSE
SUMMARY:Stevenson Ridge Wedding Open House
DESCRIPTION:For anyone planning a wedding or special event-- our open house is the perfect opportunity to tour our two wedding venues\, explore our historic cabins\, savor delectable delights from our catering team\, meet local event vendors\, and stand a chance to win fabulous prizes!
X-ALT-DESC;FMTTYPE=text/html:For anyone planning a wedding or special event-- our open house is the perfect opportunity to tour our two wedding venues\, explore our historic cabins\, savor delectable delights from our catering team\, meet local event vendors\, and stand a chance to win fabulous prizes!
LOCATION:Stevenson Ridge 6901 Meeting Street Spotsylvania\, VA 22553
UID:e.492.13878
SEQUENCE:3
DTSTAMP:20260422T053128Z
URL:https://members.fredericksburgchamber.org/events/details/stevenson-ridge-wedding-open-house-13878
END:VEVENT

END:VCALENDAR
