BEGIN:VCALENDAR
VERSION:2.0
PRODID:-//ChamberMaster//Event Calendar 2.0//EN
METHOD:PUBLISH
X-PUBLISHED-TTL:P3D
REFRESH-INTERVAL:P3D
CALSCALE:GREGORIAN
BEGIN:VEVENT
DTSTART:20220921T150000Z
DTEND:20220922T000000Z
X-MICROSOFT-CDO-ALLDAYEVENT:FALSE
SUMMARY:Strength & Honor Motorcycle Club Guns & Hoses Charity Event @ Mellow Mushroom
DESCRIPTION:Come Help Strength and Honor Club Kick off their Chili Cook off Guns and Hoses Softball Tournament at Mellow Mushroom That will be at the Nats park on 10/8 for Charity here at Mellow Mushroom. on Sept 21st. Come out Dine in and Meet the Team members. 15% of the proceeds go back to this Great Cause that they Give so Much to the Community.
X-ALT-DESC;FMTTYPE=text/html:Come Help Strength and Honor Club Kick off their Chili Cook off Guns and Hoses Softball Tournament at Mellow Mushroom That will be at the Nats park on 10/8 for Charity here at Mellow Mushroom. on Sept 21st. Come out Dine in and Meet the Team members. 15% of the proceeds go back to this Great Cause that they Give so Much to the Community.
LOCATION:Mellow Mushroom Fredericksburg Downtown. Park in the Parking Garage and bring us your ticket we will validate it for up to 2 hours.
UID:e.492.13117
SEQUENCE:3
DTSTAMP:20260422T212417Z
URL:https://members.fredericksburgchamber.org/events/details/strength-honor-motorcycle-club-guns-hoses-charity-event-mellow-mushroom-13117
END:VEVENT

END:VCALENDAR
