BEGIN:VCALENDAR
VERSION:2.0
PRODID:-//ChamberMaster//Event Calendar 2.0//EN
METHOD:PUBLISH
X-PUBLISHED-TTL:P3D
REFRESH-INTERVAL:P3D
CALSCALE:GREGORIAN
BEGIN:VEVENT
DTSTART:20230608T230000Z
DTEND:20230609T000000Z
X-MICROSOFT-CDO-ALLDAYEVENT:FALSE
SUMMARY:Summer Concert Series: U.S. Navy Band Country Current
DESCRIPTION:Join us on June 8\, 7PM\, as the U.S. Navy Band Country Current performs at the National Museum of the Marine Corps! The United States Navy Band Country Current is the Navy's premier country-bluegrass ensemble. The group is nationally renowned for its versatility and "eye-popping" musicianship\, performing a blend of modern country music and cutting-edge bluegrass. This seven-member ensemble employs musicians from diverse backgrounds with extensive high-profile recording and touring experience in the music scenes of Nashville\, New York\, New Orleans and more. In the tradition of country music\, each member is a skilled performer on multiple instruments. The free Summer Concerts are held outdoors on the National Museum of the Marine Corps' entry plaza\, weather permitting. Guests are encouraged to bring lawn chairs or picnic blankets. Please enjoy extended hours before the concert begins. The Museum and Store will be open until 7:00 PM. Tun Tavern will be open until 6:00 PM. *No alcoholic beverages will be permitted on the Museum grounds. No personal sales or transactions permitted on Museum grounds.
X-ALT-DESC;FMTTYPE=text/html:Join us on June 8\, 7PM\, as the U.S. Navy Band Country Current performs at the National Museum of the Marine Corps! The United States Navy Band Country Current is the Navy&#39\;s premier country-bluegrass ensemble. The group is nationally renowned for its versatility and &quot\;eye-popping&quot\; musicianship\, performing a blend of modern country music and cutting-edge bluegrass. This seven-member ensemble employs musicians from diverse backgrounds with extensive high-profile recording and touring experience in the music scenes of Nashville\, New York\, New Orleans and more. In the tradition of country music\, each member is a skilled performer on multiple instruments. The free Summer Concerts are held outdoors on the National Museum of the Marine Corps&#39\; entry plaza\, weather permitting. Guests are encouraged to bring lawn chairs or picnic blankets. Please enjoy extended hours before the concert begins. The Museum and Store will be open until 7:00 PM. Tun Tavern will be open until 6:00 PM. *No alcoholic beverages will be permitted on the Museum grounds. No personal sales or transactions permitted on Museum grounds.
LOCATION:National Museum of the Marine Corps 1775 Semper Fidelis Way Triangle\, VA 22172
UID:e.492.13531
SEQUENCE:3
DTSTAMP:20260422T072110Z
URL:https://members.fredericksburgchamber.org/events/details/summer-concert-series-u-s-navy-band-country-current-13531
END:VEVENT

END:VCALENDAR
