BEGIN:VCALENDAR
VERSION:2.0
PRODID:-//ChamberMaster//Event Calendar 2.0//EN
METHOD:PUBLISH
X-PUBLISHED-TTL:P3D
REFRESH-INTERVAL:P3D
CALSCALE:GREGORIAN
BEGIN:VEVENT
DTSTART:20230622T230000Z
DTEND:20230623T000000Z
X-MICROSOFT-CDO-ALLDAYEVENT:FALSE
SUMMARY:Summer Concert Series: U.S. Navy Band Sea Chanters
DESCRIPTION:Join us on June 22\, 7PM\, as the U.S. Navy Band Sea Chanters perform at the National Museum of the Marine Corps! The Navy Band Sea Chanters are the United States Navy's official chorus. The ensemble performs a variety of music including traditional choral music\, sea chanteys\, patriotic fare\, opera\, Broadway and contemporary music. The Sea Chanters regularly perform for the public in the Washington\, D.C.\, area and throughout the United States while on national tours. The free Summer Concerts are held outdoors on the National Museum of the Marine Corps' entry plaza\, weather permitting. Guests are encouraged to bring lawn chairs or picnic blankets. Please enjoy extended hours before the concert begins. The Museum and Store will be open until 7:00 PM. Tun Tavern will be open until 6:00 PM. *No alcoholic beverages will be permitted on the Museum grounds.
X-ALT-DESC;FMTTYPE=text/html:Join us on June 22\, 7PM\, as the U.S. Navy Band Sea Chanters perform at the National Museum of the Marine Corps! The Navy Band Sea Chanters are the United States Navy&rsquo\;s official chorus. The ensemble performs a variety of music including traditional choral music\, sea chanteys\, patriotic fare\, opera\, Broadway and contemporary music. The Sea Chanters regularly perform for the public in the Washington\, D.C.\, area and throughout the United States while on national tours. The free Summer Concerts are held outdoors on the National Museum of the Marine Corps&#39\; entry plaza\, weather permitting. Guests are encouraged to bring lawn chairs or picnic blankets. Please enjoy extended hours before the concert begins. The Museum and Store will be open until 7:00 PM. Tun Tavern will be open until 6:00 PM. *No alcoholic beverages will be permitted on the Museum grounds.
LOCATION:National Museum of the Marine Corps 1775 Semper Fidelis Way Triangle\, VA 22172
UID:e.492.13532
SEQUENCE:3
DTSTAMP:20260422T054930Z
URL:https://members.fredericksburgchamber.org/events/details/summer-concert-series-u-s-navy-band-sea-chanters-06-22-2023-13532
END:VEVENT

END:VCALENDAR
