BEGIN:VCALENDAR
VERSION:2.0
PRODID:-//ChamberMaster//Event Calendar 2.0//EN
METHOD:PUBLISH
X-PUBLISHED-TTL:P3D
REFRESH-INTERVAL:P3D
CALSCALE:GREGORIAN
BEGIN:VEVENT
DTSTART:20230603T210000Z
DTEND:20230603T230000Z
X-MICROSOFT-CDO-ALLDAYEVENT:FALSE
SUMMARY:Summer Seafood Boil ($10 off today)
DESCRIPTION:Come join us for our first (of many) Seafood Boils! We have just added CRAB LEGS! Shrimp\, Scallops\, Keilbasa\, Corn\, and Potatoes served Buffet Style to enjoy with family\, friends\, or newly found friends. We will also have a dessert bar which will include Key Lime Pie\, Strawberry Shortcake\, and Fruit Kebabs. For those who would like a wine\, beer\, or cocktail pairing those will also be available. We look forward to seeing you! Sign up online at rehanas.com under Events. Our Second Floor Cocktail Bar will be open for service at 5:00 and we will begin serving at 5:30! \n\n\n\nSign up online at rehanas.com under events\n\n\n\nHope to see you there! \n\n\n\nHuda and Rick Maltbie
X-ALT-DESC;FMTTYPE=text/html:<strong>Come join us for our first (of many) Seafood Boils! We have just added CRAB LEGS! Shrimp\, Scallops\, Keilbasa\, Corn\, and Potatoes served Buffet Style to enjoy with family\, friends\, or newly found friends. We will also have a dessert bar which will include Key Lime Pie\, Strawberry Shortcake\, and Fruit Kebabs. For those who would like a wine\, beer\, or cocktail pairing those will also be available. We look forward to seeing you! Sign up online at rehanas.com under Events. Our Second Floor Cocktail Bar will be open for service at 5:00 and we will begin serving at 5:30!&nbsp\;</strong><br />\n<br />\nSign up online at rehanas.com under events<br />\n<br />\nHope to see you there!&nbsp\;<br />\n<br />\nHuda and Rick Maltbie<br />\n&nbsp\;
LOCATION:
UID:e.492.13588
SEQUENCE:3
DTSTAMP:20260422T070744Z
URL:https://members.fredericksburgchamber.org/events/details/summer-seafood-boil-10-off-today-13588
END:VEVENT

END:VCALENDAR
