BEGIN:VCALENDAR
VERSION:2.0
PRODID:-//ChamberMaster//Event Calendar 2.0//EN
METHOD:PUBLISH
X-PUBLISHED-TTL:P3D
REFRESH-INTERVAL:P3D
CALSCALE:GREGORIAN
BEGIN:VEVENT
DTSTART:20231103T220000Z
DTEND:20231104T020000Z
X-MICROSOFT-CDO-ALLDAYEVENT:FALSE
SUMMARY:Swinging Through the Decades
DESCRIPTION:The Lloyd F. Moss Free Clinic is celebrating 30 years of Compassionate Care. The event is promises to transport you back to the golden age of swing and jazz\, featuring the Fredericksburg Big Band and special guest\, Sarah King. Enjoy the excitement of a Live Auction and a chance to win a luxury vacation.
X-ALT-DESC;FMTTYPE=text/html:The Lloyd F. Moss Free Clinic is celebrating 30 years of Compassionate Care. The event is promises to transport you back to the golden age of swing and jazz\, featuring the Fredericksburg Big Band and special guest\, Sarah King. Enjoy the excitement of a Live Auction and a chance to win a luxury vacation.
LOCATION:Fredericksburg Square 525 Caroline St Fredericksburg\, VA 22401
UID:e.492.13733
SEQUENCE:3
DTSTAMP:20260421T215955Z
URL:https://members.fredericksburgchamber.org/events/details/swinging-through-the-decades-13733
END:VEVENT

END:VCALENDAR
