BEGIN:VCALENDAR
VERSION:2.0
PRODID:-//ChamberMaster//Event Calendar 2.0//EN
METHOD:PUBLISH
X-PUBLISHED-TTL:P3D
REFRESH-INTERVAL:P3D
CALSCALE:GREGORIAN
BEGIN:VEVENT
DTSTART:20220929T200000Z
DTEND:20220930T010000Z
X-MICROSOFT-CDO-ALLDAYEVENT:FALSE
SUMMARY:Tap Takeover Brothers Brewery Mellow Mushroom
DESCRIPTION:Come on Out to Mellow and join us for Tap Takeover On As Brothers Brewery a Local Takes over Some of our Draft lines and Mingles and gives out a few things. It is also Thursday which means $4 Pint night. All Pints are $4 and It is Happy hour till 7pm. So Come on out and join is for some music and a good time.
X-ALT-DESC;FMTTYPE=text/html:Come on Out to Mellow and join us for Tap Takeover On As Brothers Brewery a Local Takes over Some of our Draft lines and Mingles and gives out a few things. It is also Thursday which means $4 Pint night. All Pints are $4 and It is Happy hour till 7pm. So Come on out and join is for some music and a good time.
LOCATION:Mellow Mushroom Downtown Fredericksburg
UID:e.492.13119
SEQUENCE:3
DTSTAMP:20260422T194300Z
URL:https://members.fredericksburgchamber.org/events/details/tap-takeover-brothers-brewery-mellow-mushroom-13119
END:VEVENT

END:VCALENDAR
