BEGIN:VCALENDAR
VERSION:2.0
PRODID:-//ChamberMaster//Event Calendar 2.0//EN
METHOD:PUBLISH
X-PUBLISHED-TTL:P3D
REFRESH-INTERVAL:P3D
CALSCALE:GREGORIAN
BEGIN:VEVENT
DTSTART:20221008T130000Z
DTEND:20221008T160000Z
X-MICROSOFT-CDO-ALLDAYEVENT:FALSE
SUMMARY:Tee Up Fore Freedom Golf Tournament
DESCRIPTION:Help People Find Freedom From Addiction\n\n\nZoe Freedom Center - Tee Up Fore Freedom\n\nPLAY: Enjoy a morning at Lake of the Woods Golf Course. Grab some friends and come support this great cause. There will be awards and prizes for top two teams low gross\; awards for closest to the pin\, longest drive\, and hole in one\; $20 mulligan packages\; and door prizes.\n\nFORMAT: 18 Holes\, Captain's Choice Foursome\, 9:00AM Shotgun Start\n\nSPONSORSHIPS AVAILABLE AT THE LINK BELOW THE REGISTRATION BUTTON\n\n\n\n\n\n(1) Title Sponsor:  $5\,000.00   \n\n\n\n(2) Gold Sponsors:  $3\,000.00\n\n\n\n(3) Silver Sponsors: $1\,500.00\n\n\n	\n	Teakwood Enterprises Inc\n	\n\n\n(1) Lunch Sponsor:  $1\,000.00\n\n\n\n(3) Bronze Sponsors:  $750.00\n\n\n\n(1)  Breakfast Sponsor:  $500.00\n\n\n\n(2) Pearl Sponsors:  $275.00\n\n\n\n(7)  Hole Sponsors:  $150.00
X-ALT-DESC;FMTTYPE=text/html:<h2>Help People Find Freedom From Addiction</h2>\n\n<div>\n<p>Zoe Freedom Center - Tee Up Fore Freedom</p>\n\n<p>PLAY: Enjoy a morning at Lake of the Woods Golf Course. Grab some friends and come support this great cause. There will be awards and prizes for top two teams low gross\; awards for closest to the pin\, longest drive\, and hole in one\; $20 mulligan packages\; and door prizes.</p>\n\n<p>FORMAT: 18 Holes\, Captain&#39\;s Choice Foursome\, 9:00AM Shotgun Start</p>\n\n<p><strong>SPONSORSHIPS AVAILABLE AT THE LINK BELOW <a href="https://tzoefc.networkforgood.com/events/44652-tee-up-fore-freedom-charity-golf-tournament">THE REGISTRATION BUTTON</a></strong></p>\n</div>\n\n<div>\n<div>\n<div>\n<h5><span style="font-size:14px">(1) Title Sponsor: &nbsp\;</span><span style="font-size:14px">$5\,000.00 &nbsp\;&nbsp\;</span><br />\n<br />\n<span style="font-size:14px">(2) Gold Sponsors: &nbsp\;</span><span style="font-size:14px">$3\,000.00<br />\n<br />\n(3) </span><span style="font-size:14px">Silver Sponsors:&nbsp\;</span><span style="font-size:14px">$1\,500.00</span></h5>\n\n<ul>\n	<li>\n	<h5><span style="font-size:14px">Teakwood Enterprises Inc</span></h5>\n	</li>\n</ul>\n\n<h5><span style="font-size:14px">(1) Lunch Sponsor: &nbsp\;$1\,000.00<br />\n<br />\n(3)&nbsp\;</span><span style="font-size:14px">Bronze Sponsors: &nbsp\;</span><span style="font-size:14px">$750.00<br />\n<br />\n(1) &nbsp\;</span><span style="font-size:14px">Breakfast Sponsor: &nbsp\;$500.00<br />\n<br />\n(2)&nbsp\;</span><span style="font-size:14px">Pearl Sponsors: &nbsp\;</span><span style="font-size:14px">$275.00<br />\n<br />\n(7) &nbsp\;</span><span style="font-size:14px">Hole Sponsors: &nbsp\;</span><span style="font-size:14px">$150.00</span></h5>\n</div>\n</div>\n\n<div>\n<div style="margin-left:1.6rem !important">\n<p>&nbsp\;</p>\n</div>\n</div>\n</div>\n
LOCATION:Lake of the Woods Golf Course 108 Fairway Dr. Fredericksburg\, VA
UID:e.492.13036
SEQUENCE:3
DTSTAMP:20260422T193948Z
URL:https://members.fredericksburgchamber.org/events/details/tee-up-fore-freedom-golf-tournament-13036
END:VEVENT

END:VCALENDAR
