BEGIN:VCALENDAR
VERSION:2.0
PRODID:-//ChamberMaster//Event Calendar 2.0//EN
METHOD:PUBLISH
X-PUBLISHED-TTL:P3D
REFRESH-INTERVAL:P3D
CALSCALE:GREGORIAN
BEGIN:VEVENT
DTSTART:20240419T130000Z
DTEND:20240419T190000Z
X-MICROSOFT-CDO-ALLDAYEVENT:FALSE
SUMMARY:The 2024 Business Acumen Series: HR Laws Everyone Needs to Know
DESCRIPTION:The Business Acumen Series (BAS) will combine university knowledge and the practical application of innovative tools to drive your organization's mission and deliver results. This year's theme centers around Dynamic Leadership. Dynamic Mind for Dynamic Times: Agile Leadership in the Age of Change will focus on building leadership skills for times of change. Thinking outside of the box means you need to know what the box looks like- and Human Resource laws are the proverbial box. The need for change and innovation means you need to know the parameters you work within first. This seminar will focus on the practical laws you need to know operating as a small business or independent contractor in Virginia to be successful in delivering on your mission. Speaker: Elizabeth Blancke\, Instructor\, Society of Human Resources Management Be a part of these exclusive events! Seating is limited to 50 for each event!
X-ALT-DESC;FMTTYPE=text/html:The Business Acumen Series (BAS) will combine university knowledge and the practical application of innovative tools to drive your organization&rsquo\;s mission and deliver results. This year&rsquo\;s theme centers around Dynamic Leadership. Dynamic Mind for Dynamic Times: Agile Leadership in the Age of Change will focus on building leadership skills for times of change. Thinking outside of the box means you need to know what the box looks like- and Human Resource laws are the proverbial box. The need for change and innovation means you need to know the parameters you work within first. This seminar will focus on the practical laws you need to know operating as a small business or independent contractor in Virginia to be successful in delivering on your mission. Speaker: Elizabeth Blancke\, Instructor\, Society of Human Resources Management Be a part of these exclusive events! Seating is limited to 50 for each event!
LOCATION:UMW Dahlgren Campus - 4224 University Drive\, King George\, VA 22485
UID:e.492.13951
SEQUENCE:3
DTSTAMP:20260422T071337Z
URL:https://members.fredericksburgchamber.org/events/details/the-2024-business-acumen-series-hr-laws-everyone-needs-to-know-13951
END:VEVENT

END:VCALENDAR
