BEGIN:VCALENDAR
VERSION:2.0
PRODID:-//ChamberMaster//Event Calendar 2.0//EN
METHOD:PUBLISH
X-PUBLISHED-TTL:P3D
REFRESH-INTERVAL:P3D
CALSCALE:GREGORIAN
BEGIN:VEVENT
DTSTART:20240516T130000Z
DTEND:20240516T190000Z
X-MICROSOFT-CDO-ALLDAYEVENT:FALSE
SUMMARY:The 2024 Business Acumen Series: Navigating Workplace Dynamics
DESCRIPTION:The Business Acumen Series (BAS) will combine university knowledge and the practical application of innovative tools to drive your organization's mission and deliver results. This year's theme centers around Dynamic Leadership. Dynamic Mind for Dynamic Times: Agile Leadership in the Age of Change will focus on building leadership skills for times of change. Today's workplace consists of multiple generations\, new ways to work and communicate\, and the need to grow and adapt. This seminar will focus on three main components   discovering your own style and work preferences\, navigating change\, and building productive relationships with others. Speaker: Devin Fedor\, Senior Director\, Organizational Design & Effectiveness\, Great Minds Be a part of these exclusive events! Seating is limited to 50 for each event!
X-ALT-DESC;FMTTYPE=text/html:The Business Acumen Series (BAS) will combine university knowledge and the practical application of innovative tools to drive your organization&rsquo\;s mission and deliver results. This year&rsquo\;s theme centers around Dynamic Leadership. Dynamic Mind for Dynamic Times: Agile Leadership in the Age of Change will focus on building leadership skills for times of change. Today&rsquo\;s workplace consists of multiple generations\, new ways to work and communicate\, and the need to grow and adapt. This seminar will focus on three main components &ndash\; discovering your own style and work preferences\, navigating change\, and building productive relationships with others. Speaker: Devin Fedor\, Senior Director\, Organizational Design &amp\; Effectiveness\, Great Minds Be a part of these exclusive events! Seating is limited to 50 for each event!
LOCATION:UMW Stafford Campus - 125 University Boulevard\, Stafford\, VA 22406
UID:e.492.13952
SEQUENCE:3
DTSTAMP:20260422T084644Z
URL:https://members.fredericksburgchamber.org/events/details/the-2024-business-acumen-series-navigating-workplace-dynamics-13952
END:VEVENT

END:VCALENDAR
