BEGIN:VCALENDAR
VERSION:2.0
PRODID:-//ChamberMaster//Event Calendar 2.0//EN
METHOD:PUBLISH
X-PUBLISHED-TTL:P3D
REFRESH-INTERVAL:P3D
CALSCALE:GREGORIAN
BEGIN:VEVENT
DTSTART:20271004T140000Z
DTEND:20271004T200000Z
X-MICROSOFT-CDO-ALLDAYEVENT:FALSE
SUMMARY:The 2025 Fredericksburg Independent Book Festival
DESCRIPTION:Fredericksburg Independent Book Festival   Virginia's Premier Indie Book Event!\n\nJoin us for the 8th annual Fredericksburg Independent Book Festival (FiBF) on October 4\, 2025\, in historic downtown Fredericksburg\, VA! This free\, family-friendly festival is one of the largest independent book festivals on the East Coast\, showcasing award-winning authors\, small press publishers\, and emerging literary voices across all genres.\n\n?? Meet & support indie authors\n\n?? Discover new books\n\n?? Engage in live readings & discussions\n\n??? Shop exclusive book deals & local vendors\n\nDon't miss this literary celebration where book lovers and writers connect! Follow us for updates on giveaways\, author spotlights\, and festival news:\n\n?? Website: www.fredbookfest.com\n\n?? Facebook: www.facebook.com/FredBookFest\n\n?? Instagram: www.instagram.com/FredBookFest\n\n#FredericksburgBookFest #IndieAuthors #BookLovers #VAEvents #SupportIndieBooks
X-ALT-DESC;FMTTYPE=text/html:<h2><strong>Fredericksburg Independent Book Festival &ndash\; Virginia&rsquo\;s Premier Indie Book Event!</strong></h2>\n\n<p>Join us for the <strong>8th annual Fredericksburg Independent Book Festival (FiBF) on October 4\, 2025</strong>\, in historic downtown <strong>Fredericksburg\, VA</strong>! This <strong>free\, family-friendly festival</strong> is one of the largest <strong>independent book festivals</strong> on the East Coast\, showcasing <strong>award-winning authors\, small press publishers\, and emerging literary voices</strong> across all genres.</p>\n\n<p>?? <strong>Meet &amp\; support indie authors</strong><br />\n?? <strong>Discover new books</strong><br />\n?? <strong>Engage in live readings &amp\; discussions</strong><br />\n??? <strong>Shop exclusive book deals &amp\; local vendors</strong></p>\n\n<p>Don&rsquo\;t miss this <strong>literary celebration</strong> where book lovers and writers connect! Follow us for updates on giveaways\, author spotlights\, and festival news:</p>\n\n<p>?? <strong>Website:</strong> <a href="http://www.fredbookfest.com" rel="noopener" target="_new">www.fredbookfest.com</a><br />\n?? <strong>Facebook:</strong> <a href="http://www.facebook.com/FredBookFest" rel="noopener" target="_new">www.facebook.com/FredBookFest</a><br />\n?? <strong>Instagram:</strong> <a href="http://www.instagram.com/FredBookFest" rel="noopener" target="_new">www.instagram.com/FredBookFest</a></p>\n\n<p>#FredericksburgBookFest #IndieAuthors #BookLovers #VAEvents #SupportIndieBooks</p>\n
LOCATION:701 Sophia Street Fredericksburg\, VA 22401
UID:e.492.14478
SEQUENCE:3
DTSTAMP:20260422T212515Z
URL:https://members.fredericksburgchamber.org/events/details/the-2025-fredericksburg-independent-book-festival-10-04-2027-14478
END:VEVENT

END:VCALENDAR
