BEGIN:VCALENDAR
VERSION:2.0
PRODID:-//ChamberMaster//Event Calendar 2.0//EN
METHOD:PUBLISH
X-PUBLISHED-TTL:P3D
REFRESH-INTERVAL:P3D
CALSCALE:GREGORIAN
BEGIN:VEVENT
DTSTART:20220907T213000Z
DTEND:20220907T233000Z
X-MICROSOFT-CDO-ALLDAYEVENT:FALSE
SUMMARY:The Future of Rural Entrepreneurship
DESCRIPTION:Entrepreneurship is foundational in rural economies. After all\, most businesses are family businesses.\n\nOver the years\, big business has often destabilized rural economies. But emerging trends show an increasing desire to live in high quality\, smaller communities.\n\nCome out to learn about the next chapter of rural entrepreneurship. To keep rural communities vibrant\, entrepreneurs need to be able to start and grow their businesses\, in their hometowns.\n\nHear speakers discuss how they have started their businesses and learn to navigate emerging opportunities to launch businesses from anywhere.\n\nFood and drinks provided\, but registration is required via Meetup.
X-ALT-DESC;FMTTYPE=text/html:<p>Entrepreneurship is foundational in rural economies. After all\, most businesses are family businesses.</p>\n\n<p>Over the years\, big business has often destabilized rural economies. But emerging trends show an increasing desire to live in high quality\, smaller communities.</p>\n\n<p>Come out to learn about the next chapter of rural entrepreneurship. To keep rural communities vibrant\, entrepreneurs need to be able to start and grow their businesses\, in their hometowns.</p>\n\n<p>Hear speakers discuss how they have started their businesses and learn to navigate emerging opportunities to launch businesses from anywhere.</p>\n\n<p><em>Food and drinks provided\, but registration is required via Meetup.</em></p>\n
LOCATION:University of Mary Washington at Dahlgren 4224 University Drive King George\, VA 22485
UID:e.492.13084
SEQUENCE:3
DTSTAMP:20260422T212300Z
URL:https://members.fredericksburgchamber.org/events/details/the-future-of-rural-entrepreneurship-13084
END:VEVENT

END:VCALENDAR
