BEGIN:VCALENDAR
VERSION:2.0
PRODID:-//ChamberMaster//Event Calendar 2.0//EN
METHOD:PUBLISH
X-PUBLISHED-TTL:P3D
REFRESH-INTERVAL:P3D
CALSCALE:GREGORIAN
BEGIN:VEVENT
DTSTART:20250619T230000Z
DTEND:20250620T020000Z
X-MICROSOFT-CDO-ALLDAYEVENT:FALSE
SUMMARY:The Hon. Nicole Cole's Forge The Future: Juneteenth Event 2025
DESCRIPTION:You're Invited: Juneteenth 2025\n\nForge the Future\n\nHonoring Our Legacy. Inspiring Action. Building Tomorrow.\n\n \n\nJoin us as we commemorate Juneteenth 2025 with a celebration rooted in progress\, resilience\, and unity. This year's theme\, "Forge the Future\," calls us to honor the past while taking bold\, hopeful steps toward what's ahead.\n\n \n\nCome experience an uplifting gathering filled with culture\, connection\, and community spirit.\n\n \n\nDate: Thursday\, June 19\, 2025\n\nTime: 7:00PM-10:00PM\n\nLocation: John J. Wright Educational and Cultural Museum | 7565 Courthouse Road Spotsylvania Courthouse\, VA 22551
X-ALT-DESC;FMTTYPE=text/html:<h2 style="font-style:italic">You&rsquo\;re Invited: Juneteenth 2025</h2>\n\n<h3 style="color:#aaa\; font-style:italic">Forge the Future</h3>\n\n<h3 style="color:#aaa\; font-style:italic">Honoring Our Legacy. Inspiring Action. Building Tomorrow.</h3>\n\n<div>&nbsp\;</div>\n\n<div>Join us as we commemorate Juneteenth 2025 with a celebration rooted in progress\, resilience\, and unity. This year&rsquo\;s theme\, &ldquo\;Forge the Future\,&rdquo\; calls us to honor the past while taking bold\, hopeful steps toward what&rsquo\;s ahead.</div>\n\n<div>&nbsp\;</div>\n\n<div>Come experience an uplifting gathering filled with culture\, connection\, and community spirit.</div>\n\n<div>&nbsp\;</div>\n\n<div>Date: Thursday\, June 19\, 2025</div>\n\n<div>Time: 7:00PM-10:00PM</div>\n\n<div>Location: John J. Wright Educational and Cultural Museum | 7565 Courthouse Road Spotsylvania Courthouse\, VA 22551<br />\n<br />\n&nbsp\;</div>\n
LOCATION:Location: John J. Wright Educational and Cultural Museum | 7565 Courthouse Road Spotsylvania Courthouse\, VA 22551
UID:e.492.14844
SEQUENCE:3
DTSTAMP:20260422T020153Z
URL:https://members.fredericksburgchamber.org/events/details/the-hon-nicole-cole-s-forge-the-future-juneteenth-event-2025-14844
END:VEVENT

END:VCALENDAR
